BEGIN:VCALENDAR
VERSION:2.0
PRODID:-//The Door Church Northbay - ECPv6.15.20//NONSGML v1.0//EN
CALSCALE:GREGORIAN
METHOD:PUBLISH
X-WR-CALNAME:The Door Church Northbay
X-ORIGINAL-URL:https://tdcnorthbay.com
X-WR-CALDESC:Events for The Door Church Northbay
REFRESH-INTERVAL;VALUE=DURATION:PT1H
X-Robots-Tag:noindex
X-PUBLISHED-TTL:PT1H
BEGIN:VTIMEZONE
TZID:UTC
BEGIN:STANDARD
TZOFFSETFROM:+0000
TZOFFSETTO:+0000
TZNAME:UTC
DTSTART:20240101T000000
END:STANDARD
END:VTIMEZONE
BEGIN:VTIMEZONE
TZID:America/Los_Angeles
BEGIN:DAYLIGHT
TZOFFSETFROM:-0800
TZOFFSETTO:-0700
TZNAME:PDT
DTSTART:20240310T100000
END:DAYLIGHT
BEGIN:STANDARD
TZOFFSETFROM:-0700
TZOFFSETTO:-0800
TZNAME:PST
DTSTART:20241103T090000
END:STANDARD
BEGIN:DAYLIGHT
TZOFFSETFROM:-0800
TZOFFSETTO:-0700
TZNAME:PDT
DTSTART:20250309T100000
END:DAYLIGHT
BEGIN:STANDARD
TZOFFSETFROM:-0700
TZOFFSETTO:-0800
TZNAME:PST
DTSTART:20251102T090000
END:STANDARD
BEGIN:DAYLIGHT
TZOFFSETFROM:-0800
TZOFFSETTO:-0700
TZNAME:PDT
DTSTART:20260308T100000
END:DAYLIGHT
BEGIN:STANDARD
TZOFFSETFROM:-0700
TZOFFSETTO:-0800
TZNAME:PST
DTSTART:20261101T090000
END:STANDARD
END:VTIMEZONE
BEGIN:VEVENT
DTSTART;VALUE=DATE:20250328
DTEND;VALUE=DATE:20250405
DTSTAMP:20260424T113630
CREATED:20250119T234518Z
LAST-MODIFIED:20250119T234610Z
UID:575-1743120000-1743811199@tdcnorthbay.com
SUMMARY:IMPACT TEAM TO CHINA
DESCRIPTION:
URL:https://tdcnorthbay.com/event/impact-team-to-china/
LOCATION:CA
END:VEVENT
BEGIN:VEVENT
DTSTART;TZID=America/Los_Angeles:20250330T110000
DTEND;TZID=America/Los_Angeles:20250330T123000
DTSTAMP:20260424T113630
CREATED:20241228T043407Z
LAST-MODIFIED:20241228T043407Z
UID:372-1743332400-1743337800@tdcnorthbay.com
SUMMARY:Morning Worship Service
DESCRIPTION:
URL:https://tdcnorthbay.com/event/morning-worship-service-17/
LOCATION:Door Church Northbay\, 77 Alder St\, Suisun City\, CA\, 94585\, United States
CATEGORIES:Regular Service
END:VEVENT
END:VCALENDAR