BEGIN:VCALENDAR
VERSION:2.0
PRODID:-//The Door Church Northbay - ECPv6.15.20//NONSGML v1.0//EN
CALSCALE:GREGORIAN
METHOD:PUBLISH
X-ORIGINAL-URL:https://tdcnorthbay.com
X-WR-CALDESC:Events for The Door Church Northbay
REFRESH-INTERVAL;VALUE=DURATION:PT1H
X-Robots-Tag:noindex
X-PUBLISHED-TTL:PT1H
BEGIN:VTIMEZONE
TZID:UTC
BEGIN:STANDARD
TZOFFSETFROM:+0000
TZOFFSETTO:+0000
TZNAME:UTC
DTSTART:20240101T000000
END:STANDARD
END:VTIMEZONE
BEGIN:VTIMEZONE
TZID:America/Los_Angeles
BEGIN:DAYLIGHT
TZOFFSETFROM:-0800
TZOFFSETTO:-0700
TZNAME:PDT
DTSTART:20250309T100000
END:DAYLIGHT
BEGIN:STANDARD
TZOFFSETFROM:-0700
TZOFFSETTO:-0800
TZNAME:PST
DTSTART:20251102T090000
END:STANDARD
BEGIN:DAYLIGHT
TZOFFSETFROM:-0800
TZOFFSETTO:-0700
TZNAME:PDT
DTSTART:20260308T100000
END:DAYLIGHT
BEGIN:STANDARD
TZOFFSETFROM:-0700
TZOFFSETTO:-0800
TZNAME:PST
DTSTART:20261101T090000
END:STANDARD
BEGIN:DAYLIGHT
TZOFFSETFROM:-0800
TZOFFSETTO:-0700
TZNAME:PDT
DTSTART:20270314T100000
END:DAYLIGHT
BEGIN:STANDARD
TZOFFSETFROM:-0700
TZOFFSETTO:-0800
TZNAME:PST
DTSTART:20271107T090000
END:STANDARD
END:VTIMEZONE
BEGIN:VEVENT
DTSTART;TZID=UTC:20260327T190000
DTEND;TZID=UTC:20260327T200000
DTSTAMP:20260423T220838
CREATED:20260315T161448Z
LAST-MODIFIED:20260315T161450Z
UID:913-1774638000-1774641600@tdcnorthbay.com
SUMMARY:Bible Study
DESCRIPTION:See Fernando for address
URL:https://tdcnorthbay.com/event/bible-study/
CATEGORIES:Other
END:VEVENT
BEGIN:VEVENT
DTSTART;TZID=America/Los_Angeles:20260323T193000
DTEND;TZID=America/Los_Angeles:20260323T210000
DTSTAMP:20260423T220838
CREATED:20260209T114434Z
LAST-MODIFIED:20260209T114508Z
UID:886-1774294200-1774299600@tdcnorthbay.com
SUMMARY:Men's Discipleship With James Rosario
DESCRIPTION:
URL:https://tdcnorthbay.com/event/mens-discipleship-with-james-rosario/
LOCATION:San Jose\, CA\, San Jose\, CA\, United States
CATEGORIES:Other
END:VEVENT
BEGIN:VEVENT
DTSTART;TZID=UTC:20260209T193000
DTEND;TZID=UTC:20260209T210000
DTSTAMP:20260423T220838
CREATED:20260209T114223Z
LAST-MODIFIED:20260209T114225Z
UID:884-1770665400-1770670800@tdcnorthbay.com
SUMMARY:Men's Discipleship With Joe Rice
DESCRIPTION:
URL:https://tdcnorthbay.com/event/mens-discipleship-with-joe-rice/
LOCATION:San Jose\, CA\, San Jose\, CA\, United States
CATEGORIES:Other
END:VEVENT
BEGIN:VEVENT
DTSTART;TZID=UTC:20251117T193000
DTEND;TZID=UTC:20251117T210000
DTSTAMP:20260423T220838
CREATED:20251028T145137Z
LAST-MODIFIED:20251028T145213Z
UID:697-1763407800-1763413200@tdcnorthbay.com
SUMMARY:Men's Discipleship
DESCRIPTION:with Pastor Greg Mitchell
URL:https://tdcnorthbay.com/event/mens-discipleship-2/
LOCATION:San Jose\, CA\, San Jose\, CA\, United States
CATEGORIES:Other
END:VEVENT
BEGIN:VEVENT
DTSTART;TZID=UTC:20251020T190000
DTEND;TZID=UTC:20251020T203000
DTSTAMP:20260423T220838
CREATED:20251001T032339Z
LAST-MODIFIED:20251001T032709Z
UID:620-1760986800-1760992200@tdcnorthbay.com
SUMMARY:Men's Discipleship
DESCRIPTION:With Pastor Joe Campbell
URL:https://tdcnorthbay.com/event/mens-discipleship/
CATEGORIES:Other
END:VEVENT
BEGIN:VEVENT
DTSTART;TZID=UTC:20250324T193000
DTEND;TZID=UTC:20250324T210000
DTSTAMP:20260423T220838
CREATED:20250107T022023Z
LAST-MODIFIED:20250107T022023Z
UID:561-1742844600-1742850000@tdcnorthbay.com
SUMMARY:Mens Discipleship with Mark Aulson
DESCRIPTION:See Pastor James for more info
URL:https://tdcnorthbay.com/event/mens-discipleship-with-mark-aulson/
LOCATION:San Jose\, CA\, San Jose\, CA\, United States
CATEGORIES:Other
END:VEVENT
BEGIN:VEVENT
DTSTART;TZID=UTC:20250316T183000
DTEND;TZID=UTC:20250316T193000
DTSTAMP:20260423T220838
CREATED:20250128T013006Z
LAST-MODIFIED:20250221T050038Z
UID:587-1742149800-1742153400@tdcnorthbay.com
SUMMARY:Water Baptism
DESCRIPTION:
URL:https://tdcnorthbay.com/event/water-baptism/
LOCATION:Door Church Northbay\, 77 Alder St\, Suisun City\, CA\, 94585\, United States
CATEGORIES:Other
END:VEVENT
BEGIN:VEVENT
DTSTART;TZID=UTC:20250224T193000
DTEND;TZID=UTC:20250224T210000
DTSTAMP:20260423T220838
CREATED:20250107T021657Z
LAST-MODIFIED:20250221T050004Z
UID:559-1740425400-1740430800@tdcnorthbay.com
SUMMARY:Men's Discipleship with Scott Lamb
DESCRIPTION:See Pastor James for more info
URL:https://tdcnorthbay.com/event/mens-discipleship-with-scott-lamb-san-jose-ca/
LOCATION:San Jose\, CA\, San Jose\, CA\, United States
CATEGORIES:Other
END:VEVENT
BEGIN:VEVENT
DTSTART;TZID=UTC:20250216T183000
DTEND;TZID=UTC:20250216T193000
DTSTAMP:20260423T220838
CREATED:20250128T012748Z
LAST-MODIFIED:20250128T012748Z
UID:582-1739730600-1739734200@tdcnorthbay.com
SUMMARY:Believer's Bonfire
DESCRIPTION:
URL:https://tdcnorthbay.com/event/believers-bonfire/
LOCATION:Door Church Northbay\, 77 Alder St\, Suisun City\, CA\, 94585\, United States
CATEGORIES:Other
END:VEVENT
BEGIN:VEVENT
DTSTART;TZID=UTC:20250215T100000
DTEND;TZID=UTC:20250215T120000
DTSTAMP:20260423T220838
CREATED:20250128T012914Z
LAST-MODIFIED:20250128T012915Z
UID:584-1739613600-1739620800@tdcnorthbay.com
SUMMARY:Marriage Seminar with Alvin Smith
DESCRIPTION:
URL:https://tdcnorthbay.com/event/marriage-seminar-with-alvin-smith/
LOCATION:Sacramento\, CA
CATEGORIES:Other
END:VEVENT
BEGIN:VEVENT
DTSTART;TZID=UTC:20250120T193000
DTEND;TZID=UTC:20250120T210000
DTSTAMP:20260423T220838
CREATED:20250107T021258Z
LAST-MODIFIED:20250107T022051Z
UID:555-1737401400-1737406800@tdcnorthbay.com
SUMMARY:Men's Discipleship with Ray Rubi
DESCRIPTION:See Pastor James for more info
URL:https://tdcnorthbay.com/event/mens-discipleship-with-ray-rubi-san-jose-ca/
LOCATION:San Jose\, CA\, San Jose\, CA\, United States
CATEGORIES:Other
END:VEVENT
END:VCALENDAR