BEGIN:VCALENDAR
VERSION:2.0
PRODID:-//The Door Church Northbay - ECPv6.15.20//NONSGML v1.0//EN
CALSCALE:GREGORIAN
METHOD:PUBLISH
X-ORIGINAL-URL:https://tdcnorthbay.com
X-WR-CALDESC:Events for The Door Church Northbay
REFRESH-INTERVAL;VALUE=DURATION:PT1H
X-Robots-Tag:noindex
X-PUBLISHED-TTL:PT1H
BEGIN:VTIMEZONE
TZID:America/Los_Angeles
BEGIN:DAYLIGHT
TZOFFSETFROM:-0800
TZOFFSETTO:-0700
TZNAME:PDT
DTSTART:20240310T100000
END:DAYLIGHT
BEGIN:STANDARD
TZOFFSETFROM:-0700
TZOFFSETTO:-0800
TZNAME:PST
DTSTART:20241103T090000
END:STANDARD
BEGIN:DAYLIGHT
TZOFFSETFROM:-0800
TZOFFSETTO:-0700
TZNAME:PDT
DTSTART:20250309T100000
END:DAYLIGHT
BEGIN:STANDARD
TZOFFSETFROM:-0700
TZOFFSETTO:-0800
TZNAME:PST
DTSTART:20251102T090000
END:STANDARD
BEGIN:DAYLIGHT
TZOFFSETFROM:-0800
TZOFFSETTO:-0700
TZNAME:PDT
DTSTART:20260308T100000
END:DAYLIGHT
BEGIN:STANDARD
TZOFFSETFROM:-0700
TZOFFSETTO:-0800
TZNAME:PST
DTSTART:20261101T090000
END:STANDARD
BEGIN:DAYLIGHT
TZOFFSETFROM:-0800
TZOFFSETTO:-0700
TZNAME:PDT
DTSTART:20270314T100000
END:DAYLIGHT
BEGIN:STANDARD
TZOFFSETFROM:-0700
TZOFFSETTO:-0800
TZNAME:PST
DTSTART:20271107T090000
END:STANDARD
END:VTIMEZONE
BEGIN:VTIMEZONE
TZID:UTC
BEGIN:STANDARD
TZOFFSETFROM:+0000
TZOFFSETTO:+0000
TZNAME:UTC
DTSTART:20240101T000000
END:STANDARD
END:VTIMEZONE
BEGIN:VEVENT
DTSTART;TZID=America/Los_Angeles:20251026T110000
DTEND;TZID=America/Los_Angeles:20251026T123000
DTSTAMP:20260426T034804
CREATED:20241228T043611Z
LAST-MODIFIED:20251001T012746Z
UID:402-1761476400-1761481800@tdcnorthbay.com
SUMMARY:Revival with Pastor Alvin Smith
DESCRIPTION:
URL:https://tdcnorthbay.com/event/revival-with-pastor-alvin-smith/
LOCATION:Door Church Northbay\, 77 Alder St\, Suisun City\, CA\, 94585\, United States
CATEGORIES:Revival
END:VEVENT
BEGIN:VEVENT
DTSTART;TZID=UTC:20251026T183000
DTEND;TZID=UTC:20251026T200000
DTSTAMP:20260426T034804
CREATED:20251028T144646Z
LAST-MODIFIED:20251028T144649Z
UID:695-1761503400-1761508800@tdcnorthbay.com
SUMMARY:Revival with Pastor Alvin Smith
DESCRIPTION:
URL:https://tdcnorthbay.com/event/revival-with-pastor-alvin-smith-4/
LOCATION:Door Church Northbay\, 77 Alder St\, Suisun City\, CA\, 94585\, United States
CATEGORIES:Revival
END:VEVENT
BEGIN:VEVENT
DTSTART;TZID=America/Los_Angeles:20251116T110000
DTEND;TZID=America/Los_Angeles:20251116T123000
DTSTAMP:20260426T034804
CREATED:20241228T043612Z
LAST-MODIFIED:20251109T231026Z
UID:405-1763290800-1763296200@tdcnorthbay.com
SUMMARY:Revival with Joaquin Contreras
DESCRIPTION:
URL:https://tdcnorthbay.com/event/morning-worship-service-50/
LOCATION:Door Church Northbay\, 77 Alder St\, Suisun City\, CA\, 94585\, United States
CATEGORIES:Revival
END:VEVENT
BEGIN:VEVENT
DTSTART;TZID=UTC:20251205T190000
DTEND;TZID=UTC:20251205T203000
DTSTAMP:20260426T034804
CREATED:20251109T231221Z
LAST-MODIFIED:20251109T231224Z
UID:753-1764961200-1764966600@tdcnorthbay.com
SUMMARY:Revival with Julio Blanco
DESCRIPTION:
URL:https://tdcnorthbay.com/event/revival-with-julio-blanco-4/
LOCATION:Door Church Northbay\, 77 Alder St\, Suisun City\, CA\, 94585\, United States
CATEGORIES:Revival
END:VEVENT
BEGIN:VEVENT
DTSTART;TZID=UTC:20251206T190000
DTEND;TZID=UTC:20251206T203000
DTSTAMP:20260426T034804
CREATED:20251109T231254Z
LAST-MODIFIED:20251109T231254Z
UID:755-1765047600-1765053000@tdcnorthbay.com
SUMMARY:Revival with Julio Blanco
DESCRIPTION:
URL:https://tdcnorthbay.com/event/revival-with-julio-blanco-5/
LOCATION:Door Church Northbay\, 77 Alder St\, Suisun City\, CA\, 94585\, United States
CATEGORIES:Revival
END:VEVENT
BEGIN:VEVENT
DTSTART;TZID=America/Los_Angeles:20251207T110000
DTEND;TZID=America/Los_Angeles:20251207T123000
DTSTAMP:20260426T034804
CREATED:20241228T043628Z
LAST-MODIFIED:20251109T231331Z
UID:408-1765105200-1765110600@tdcnorthbay.com
SUMMARY:Revival with Julio Blanco
DESCRIPTION:
URL:https://tdcnorthbay.com/event/morning-worship-service-53/
LOCATION:Door Church Northbay\, 77 Alder St\, Suisun City\, CA\, 94585\, United States
CATEGORIES:Revival
END:VEVENT
BEGIN:VEVENT
DTSTART;TZID=UTC:20251207T183000
DTEND;TZID=UTC:20251207T200000
DTSTAMP:20260426T034804
CREATED:20251125T062329Z
LAST-MODIFIED:20251125T062329Z
UID:759-1765132200-1765137600@tdcnorthbay.com
SUMMARY:Revival with Julio Blanco
DESCRIPTION:
URL:https://tdcnorthbay.com/event/revival-with-julio-blanco-6/
LOCATION:Door Church Northbay\, 77 Alder St\, Suisun City\, CA\, 94585\, United States
CATEGORIES:Revival
END:VEVENT
BEGIN:VEVENT
DTSTART;TZID=America/Los_Angeles:20260116T190000
DTEND;TZID=America/Los_Angeles:20260116T203000
DTSTAMP:20260426T034804
CREATED:20260209T113251Z
LAST-MODIFIED:20260209T113251Z
UID:776-1768590000-1768595400@tdcnorthbay.com
SUMMARY:Revival Service With David Ajala
DESCRIPTION:
URL:https://tdcnorthbay.com/event/revival-service-with-david-ajala/
LOCATION:Door Church Northbay\, 77 Alder St\, Suisun City\, CA\, 94585\, United States
CATEGORIES:Revival
END:VEVENT
BEGIN:VEVENT
DTSTART;TZID=America/Los_Angeles:20260117T190000
DTEND;TZID=America/Los_Angeles:20260117T203000
DTSTAMP:20260426T034804
CREATED:20260209T113253Z
LAST-MODIFIED:20260209T113253Z
UID:777-1768676400-1768681800@tdcnorthbay.com
SUMMARY:Revival Service With David Ajala
DESCRIPTION:
URL:https://tdcnorthbay.com/event/revival-service-with-david-ajala-2/
LOCATION:Door Church Northbay\, 77 Alder St\, Suisun City\, CA\, 94585\, United States
CATEGORIES:Revival
END:VEVENT
BEGIN:VEVENT
DTSTART;TZID=America/Los_Angeles:20260118T110000
DTEND;TZID=America/Los_Angeles:20260118T123000
DTSTAMP:20260426T034804
CREATED:20260209T113254Z
LAST-MODIFIED:20260209T113254Z
UID:778-1768734000-1768739400@tdcnorthbay.com
SUMMARY:Revival Service With David Ajala
DESCRIPTION:
URL:https://tdcnorthbay.com/event/revival-service-with-david-ajala-3/
LOCATION:Door Church Northbay\, 77 Alder St\, Suisun City\, CA\, 94585\, United States
CATEGORIES:Revival
END:VEVENT
BEGIN:VEVENT
DTSTART;TZID=America/Los_Angeles:20260227T190000
DTEND;TZID=America/Los_Angeles:20260227T203000
DTSTAMP:20260426T034804
CREATED:20260209T113325Z
LAST-MODIFIED:20260209T113325Z
UID:790-1772218800-1772224200@tdcnorthbay.com
SUMMARY:Revival Service With Josh & Kathy Scribner
DESCRIPTION:
URL:https://tdcnorthbay.com/event/revival-service-with-josh-kathy-scribner/
LOCATION:Door Church Northbay\, 77 Alder St\, Suisun City\, CA\, 94585\, United States
CATEGORIES:Revival
END:VEVENT
BEGIN:VEVENT
DTSTART;TZID=America/Los_Angeles:20260228T190000
DTEND;TZID=America/Los_Angeles:20260228T203000
DTSTAMP:20260426T034804
CREATED:20260209T113325Z
LAST-MODIFIED:20260209T113325Z
UID:791-1772305200-1772310600@tdcnorthbay.com
SUMMARY:Revival Service With Josh & Kathy Scribner
DESCRIPTION:
URL:https://tdcnorthbay.com/event/revival-service-with-josh-kathy-scribner-2/
LOCATION:Door Church Northbay\, 77 Alder St\, Suisun City\, CA\, 94585\, United States
CATEGORIES:Revival
END:VEVENT
BEGIN:VEVENT
DTSTART;TZID=America/Los_Angeles:20260301T110000
DTEND;TZID=America/Los_Angeles:20260301T123000
DTSTAMP:20260426T034804
CREATED:20260209T113339Z
LAST-MODIFIED:20260209T113339Z
UID:792-1772362800-1772368200@tdcnorthbay.com
SUMMARY:Revival Service With Josh & Kathy Scribner
DESCRIPTION:
URL:https://tdcnorthbay.com/event/revival-service-with-josh-kathy-scribner-3/
LOCATION:Door Church Northbay\, 77 Alder St\, Suisun City\, CA\, 94585\, United States
CATEGORIES:Revival
END:VEVENT
BEGIN:VEVENT
DTSTART;TZID=UTC:20260328T190000
DTEND;TZID=UTC:20260328T203000
DTSTAMP:20260426T034804
CREATED:20260318T131035Z
LAST-MODIFIED:20260318T131035Z
UID:915-1774724400-1774729800@tdcnorthbay.com
SUMMARY:Miracle Crusade with Charlie Foreman
DESCRIPTION:Special services with Charlie Foreman.
URL:https://tdcnorthbay.com/event/miracle-crusade-with-charlie-foreman/
LOCATION:Door Church Northbay\, 77 Alder St\, Suisun City\, CA\, 94585\, United States
CATEGORIES:Revival
END:VEVENT
BEGIN:VEVENT
DTSTART;TZID=America/Los_Angeles:20260329T110000
DTEND;TZID=America/Los_Angeles:20260329T123000
DTSTAMP:20260426T034804
CREATED:20260209T113355Z
LAST-MODIFIED:20260318T131059Z
UID:800-1774782000-1774787400@tdcnorthbay.com
SUMMARY:Miracle Crusade with Charlie Foreman
DESCRIPTION:Special services with Charlie Foreman.
URL:https://tdcnorthbay.com/event/morning-worship-service-62/
LOCATION:Door Church Northbay\, 77 Alder St\, Suisun City\, CA\, 94585\, United States
CATEGORIES:Revival
END:VEVENT
BEGIN:VEVENT
DTSTART;TZID=America/Los_Angeles:20260515T190000
DTEND;TZID=America/Los_Angeles:20260515T203000
DTSTAMP:20260426T034804
CREATED:20260209T113507Z
LAST-MODIFIED:20260209T113507Z
UID:815-1778871600-1778877000@tdcnorthbay.com
SUMMARY:Revival Service With Carl Cooper
DESCRIPTION:
URL:https://tdcnorthbay.com/event/revival-service-with-carl-cooper/
LOCATION:Door Church Northbay\, 77 Alder St\, Suisun City\, CA\, 94585\, United States
CATEGORIES:Revival
END:VEVENT
BEGIN:VEVENT
DTSTART;TZID=America/Los_Angeles:20260516T190000
DTEND;TZID=America/Los_Angeles:20260516T203000
DTSTAMP:20260426T034804
CREATED:20260209T113508Z
LAST-MODIFIED:20260209T113508Z
UID:816-1778958000-1778963400@tdcnorthbay.com
SUMMARY:Revival Service With Carl Cooper
DESCRIPTION:
URL:https://tdcnorthbay.com/event/revival-service-with-carl-cooper-2/
LOCATION:Door Church Northbay\, 77 Alder St\, Suisun City\, CA\, 94585\, United States
CATEGORIES:Revival
END:VEVENT
BEGIN:VEVENT
DTSTART;TZID=America/Los_Angeles:20260517T110000
DTEND;TZID=America/Los_Angeles:20260517T123000
DTSTAMP:20260426T034804
CREATED:20260209T113521Z
LAST-MODIFIED:20260209T113521Z
UID:817-1779015600-1779021000@tdcnorthbay.com
SUMMARY:Revival Service With Carl Cooper
DESCRIPTION:
URL:https://tdcnorthbay.com/event/revival-service-with-carl-cooper-3/
LOCATION:Door Church Northbay\, 77 Alder St\, Suisun City\, CA\, 94585\, United States
CATEGORIES:Revival
END:VEVENT
END:VCALENDAR