BEGIN:VCALENDAR
VERSION:2.0
PRODID:-//The Door Church Northbay - ECPv6.15.20//NONSGML v1.0//EN
CALSCALE:GREGORIAN
METHOD:PUBLISH
X-WR-CALNAME:The Door Church Northbay
X-ORIGINAL-URL:https://tdcnorthbay.com
X-WR-CALDESC:Events for The Door Church Northbay
REFRESH-INTERVAL;VALUE=DURATION:PT1H
X-Robots-Tag:noindex
X-PUBLISHED-TTL:PT1H
BEGIN:VTIMEZONE
TZID:UTC
BEGIN:STANDARD
TZOFFSETFROM:+0000
TZOFFSETTO:+0000
TZNAME:UTC
DTSTART:20220101T000000
END:STANDARD
END:VTIMEZONE
BEGIN:VEVENT
DTSTART;TZID=UTC:20250418T190000
DTEND;TZID=UTC:20250418T203000
DTSTAMP:20260425T220504
CREATED:20250128T013948Z
LAST-MODIFIED:20250128T013949Z
UID:589-1745002800-1745008200@tdcnorthbay.com
SUMMARY:Revival with Jerry Fussel
DESCRIPTION:
URL:https://tdcnorthbay.com/event/revival-with-jerry-fussel/
LOCATION:Door Church Northbay\, 77 Alder St\, Suisun City\, CA\, 94585\, United States
CATEGORIES:Revival
END:VEVENT
BEGIN:VEVENT
DTSTART;TZID=UTC:20250126T183000
DTEND;TZID=UTC:20250126T200000
DTSTAMP:20260425T220504
CREATED:20250128T012621Z
LAST-MODIFIED:20250128T012633Z
UID:580-1737916200-1737921600@tdcnorthbay.com
SUMMARY:Revival with Steve Pinnick
DESCRIPTION:
URL:https://tdcnorthbay.com/event/revival-with-steve-pinnick-4/
LOCATION:Door Church Northbay\, 77 Alder St\, Suisun City\, CA\, 94585\, United States
CATEGORIES:Revival
END:VEVENT
BEGIN:VEVENT
DTSTART;TZID=UTC:20250126T110000
DTEND;TZID=UTC:20250126T123000
DTSTAMP:20260425T220504
CREATED:20241223T043059Z
LAST-MODIFIED:20241228T045956Z
UID:348-1737889200-1737894600@tdcnorthbay.com
SUMMARY:Revival with Steve Pinnick
DESCRIPTION:
URL:https://tdcnorthbay.com/event/revival-with-steve-pinnick-3/
LOCATION:Door Church Northbay\, 77 Alder St\, Suisun City\, CA\, 94585\, United States
CATEGORIES:Revival
END:VEVENT
BEGIN:VEVENT
DTSTART;TZID=UTC:20250125T190000
DTEND;TZID=UTC:20250125T203000
DTSTAMP:20260425T220504
CREATED:20241223T041551Z
LAST-MODIFIED:20250107T023421Z
UID:339-1737831600-1737837000@tdcnorthbay.com
SUMMARY:Revival with Steve Pinnick
DESCRIPTION:
URL:https://tdcnorthbay.com/event/revival-with-steve-pinnick-2/
LOCATION:Door Church Northbay\, 77 Alder St\, Suisun City\, CA\, 94585\, United States
CATEGORIES:Revival
END:VEVENT
BEGIN:VEVENT
DTSTART;TZID=UTC:20250124T190000
DTEND;TZID=UTC:20250124T203000
DTSTAMP:20260425T220504
CREATED:20241223T041258Z
LAST-MODIFIED:20241228T045634Z
UID:337-1737745200-1737750600@tdcnorthbay.com
SUMMARY:Revival with Steve Pinnick
DESCRIPTION:
URL:https://tdcnorthbay.com/event/revival-with-steve-pinnick/
LOCATION:Door Church Northbay\, 77 Alder St\, Suisun City\, CA\, 94585\, United States
CATEGORIES:Revival
END:VEVENT
BEGIN:VEVENT
DTSTART;VALUE=DATE:20230818
DTEND;VALUE=DATE:20230821
DTSTAMP:20260425T220504
CREATED:20230808T012415Z
LAST-MODIFIED:20230808T013152Z
UID:96-1692316800-1692575999@tdcnorthbay.com
SUMMARY:Revival with Nathan Brazell
DESCRIPTION:Join us for special services with Evangelist Nathan Brazell\n\n \n\n 	FRIDAY\, AUGUST 18 @ 7 PM\n 	SATURDAY\, AUGUST 19 @ 7 PM\n 	SUNDAY\, AUGUST 20 @ 11 AM\n 	SUNDAY\, AUGUST 20 @ 7 PM
URL:https://tdcnorthbay.com/event/revival-with-nathan-brazell/
LOCATION:CA
CATEGORIES:Revival
END:VEVENT
END:VCALENDAR