BEGIN:VCALENDAR
VERSION:2.0
PRODID:-//The Door Church Northbay - ECPv6.15.20//NONSGML v1.0//EN
CALSCALE:GREGORIAN
METHOD:PUBLISH
X-ORIGINAL-URL:https://tdcnorthbay.com
X-WR-CALDESC:Events for The Door Church Northbay
REFRESH-INTERVAL;VALUE=DURATION:PT1H
X-Robots-Tag:noindex
X-PUBLISHED-TTL:PT1H
BEGIN:VTIMEZONE
TZID:America/Los_Angeles
BEGIN:DAYLIGHT
TZOFFSETFROM:-0800
TZOFFSETTO:-0700
TZNAME:PDT
DTSTART:20250309T100000
END:DAYLIGHT
BEGIN:STANDARD
TZOFFSETFROM:-0700
TZOFFSETTO:-0800
TZNAME:PST
DTSTART:20251102T090000
END:STANDARD
BEGIN:DAYLIGHT
TZOFFSETFROM:-0800
TZOFFSETTO:-0700
TZNAME:PDT
DTSTART:20260308T100000
END:DAYLIGHT
BEGIN:STANDARD
TZOFFSETFROM:-0700
TZOFFSETTO:-0800
TZNAME:PST
DTSTART:20261101T090000
END:STANDARD
BEGIN:DAYLIGHT
TZOFFSETFROM:-0800
TZOFFSETTO:-0700
TZNAME:PDT
DTSTART:20270314T100000
END:DAYLIGHT
BEGIN:STANDARD
TZOFFSETFROM:-0700
TZOFFSETTO:-0800
TZNAME:PST
DTSTART:20271107T090000
END:STANDARD
END:VTIMEZONE
BEGIN:VEVENT
DTSTART;TZID=America/Los_Angeles:20260401T190000
DTEND;TZID=America/Los_Angeles:20260401T203000
DTSTAMP:20260423T191210
CREATED:20260209T113355Z
LAST-MODIFIED:20260209T113355Z
UID:801-1775070000-1775075400@tdcnorthbay.com
SUMMARY:Midweek Service
DESCRIPTION:
URL:https://tdcnorthbay.com/event/midweek-service-69/
LOCATION:Door Church Northbay\, 77 Alder St\, Suisun City\, CA\, 94585\, United States
CATEGORIES:Regular Service
END:VEVENT
BEGIN:VEVENT
DTSTART;TZID=America/Los_Angeles:20260405T110000
DTEND;TZID=America/Los_Angeles:20260405T123000
DTSTAMP:20260423T191210
CREATED:20260209T113409Z
LAST-MODIFIED:20260209T113409Z
UID:802-1775386800-1775392200@tdcnorthbay.com
SUMMARY:Morning Worship Service
DESCRIPTION:
URL:https://tdcnorthbay.com/event/morning-worship-service-63/
LOCATION:Door Church Northbay\, 77 Alder St\, Suisun City\, CA\, 94585\, United States
CATEGORIES:Regular Service
END:VEVENT
BEGIN:VEVENT
DTSTART;TZID=America/Los_Angeles:20260408T190000
DTEND;TZID=America/Los_Angeles:20260408T203000
DTSTAMP:20260423T191211
CREATED:20260209T113409Z
LAST-MODIFIED:20260209T113409Z
UID:803-1775674800-1775680200@tdcnorthbay.com
SUMMARY:Midweek Service
DESCRIPTION:
URL:https://tdcnorthbay.com/event/midweek-service-70/
LOCATION:Door Church Northbay\, 77 Alder St\, Suisun City\, CA\, 94585\, United States
CATEGORIES:Regular Service
END:VEVENT
BEGIN:VEVENT
DTSTART;TZID=America/Los_Angeles:20260412T110000
DTEND;TZID=America/Los_Angeles:20260412T123000
DTSTAMP:20260423T191211
CREATED:20260209T113409Z
LAST-MODIFIED:20260209T113409Z
UID:804-1775991600-1775997000@tdcnorthbay.com
SUMMARY:Morning Worship Service
DESCRIPTION:
URL:https://tdcnorthbay.com/event/morning-worship-service-64/
LOCATION:Door Church Northbay\, 77 Alder St\, Suisun City\, CA\, 94585\, United States
CATEGORIES:Regular Service
END:VEVENT
BEGIN:VEVENT
DTSTART;TZID=America/Los_Angeles:20260415T190000
DTEND;TZID=America/Los_Angeles:20260415T203000
DTSTAMP:20260423T191211
CREATED:20260209T113410Z
LAST-MODIFIED:20260209T113410Z
UID:805-1776279600-1776285000@tdcnorthbay.com
SUMMARY:Midweek Service
DESCRIPTION:
URL:https://tdcnorthbay.com/event/midweek-service-71/
LOCATION:Door Church Northbay\, 77 Alder St\, Suisun City\, CA\, 94585\, United States
CATEGORIES:Regular Service
END:VEVENT
BEGIN:VEVENT
DTSTART;TZID=America/Los_Angeles:20260417T000000
DTEND;TZID=America/Los_Angeles:20260424T000000
DTSTAMP:20260423T191211
CREATED:20260209T113410Z
LAST-MODIFIED:20260209T113410Z
UID:806-1776384000-1776988800@tdcnorthbay.com
SUMMARY:Impact Team to Taiwan
DESCRIPTION:
URL:https://tdcnorthbay.com/event/impact-team-to-taiwan/
LOCATION:CA
CATEGORIES:Outreach
END:VEVENT
BEGIN:VEVENT
DTSTART;TZID=America/Los_Angeles:20260419T110000
DTEND;TZID=America/Los_Angeles:20260419T123000
DTSTAMP:20260423T191211
CREATED:20260209T113452Z
LAST-MODIFIED:20260209T113452Z
UID:807-1776596400-1776601800@tdcnorthbay.com
SUMMARY:Morning Worship Service
DESCRIPTION:
URL:https://tdcnorthbay.com/event/morning-worship-service-65/
LOCATION:Door Church Northbay\, 77 Alder St\, Suisun City\, CA\, 94585\, United States
CATEGORIES:Regular Service
END:VEVENT
BEGIN:VEVENT
DTSTART;TZID=America/Los_Angeles:20260422T190000
DTEND;TZID=America/Los_Angeles:20260422T203000
DTSTAMP:20260423T191211
CREATED:20260209T113452Z
LAST-MODIFIED:20260209T113452Z
UID:808-1776884400-1776889800@tdcnorthbay.com
SUMMARY:Midweek Service
DESCRIPTION:
URL:https://tdcnorthbay.com/event/midweek-service-72/
LOCATION:Door Church Northbay\, 77 Alder St\, Suisun City\, CA\, 94585\, United States
CATEGORIES:Regular Service
END:VEVENT
BEGIN:VEVENT
DTSTART;TZID=America/Los_Angeles:20260426T110000
DTEND;TZID=America/Los_Angeles:20260426T123000
DTSTAMP:20260423T191211
CREATED:20260209T113452Z
LAST-MODIFIED:20260209T113452Z
UID:809-1777201200-1777206600@tdcnorthbay.com
SUMMARY:Morning Worship Service
DESCRIPTION:
URL:https://tdcnorthbay.com/event/morning-worship-service-66/
LOCATION:Door Church Northbay\, 77 Alder St\, Suisun City\, CA\, 94585\, United States
CATEGORIES:Regular Service
END:VEVENT
BEGIN:VEVENT
DTSTART;TZID=America/Los_Angeles:20260429T190000
DTEND;TZID=America/Los_Angeles:20260429T203000
DTSTAMP:20260423T191211
CREATED:20260209T113453Z
LAST-MODIFIED:20260209T113453Z
UID:810-1777489200-1777494600@tdcnorthbay.com
SUMMARY:Midweek Service
DESCRIPTION:
URL:https://tdcnorthbay.com/event/midweek-service-73/
LOCATION:Door Church Northbay\, 77 Alder St\, Suisun City\, CA\, 94585\, United States
CATEGORIES:Regular Service
END:VEVENT
BEGIN:VEVENT
DTSTART;TZID=America/Los_Angeles:20260503T110000
DTEND;TZID=America/Los_Angeles:20260503T123000
DTSTAMP:20260423T191211
CREATED:20260209T113453Z
LAST-MODIFIED:20260209T113453Z
UID:811-1777806000-1777811400@tdcnorthbay.com
SUMMARY:Morning Worship Service
DESCRIPTION:
URL:https://tdcnorthbay.com/event/morning-worship-service-67/
LOCATION:Door Church Northbay\, 77 Alder St\, Suisun City\, CA\, 94585\, United States
CATEGORIES:Regular Service
END:VEVENT
BEGIN:VEVENT
DTSTART;TZID=America/Los_Angeles:20260506T190000
DTEND;TZID=America/Los_Angeles:20260506T203000
DTSTAMP:20260423T191211
CREATED:20260209T113506Z
LAST-MODIFIED:20260209T113506Z
UID:812-1778094000-1778099400@tdcnorthbay.com
SUMMARY:Midweek Service
DESCRIPTION:
URL:https://tdcnorthbay.com/event/midweek-service-74/
LOCATION:Door Church Northbay\, 77 Alder St\, Suisun City\, CA\, 94585\, United States
CATEGORIES:Regular Service
END:VEVENT
BEGIN:VEVENT
DTSTART;TZID=America/Los_Angeles:20260510T110000
DTEND;TZID=America/Los_Angeles:20260510T123000
DTSTAMP:20260423T191211
CREATED:20260209T113507Z
LAST-MODIFIED:20260209T113507Z
UID:813-1778410800-1778416200@tdcnorthbay.com
SUMMARY:Morning Worship Service
DESCRIPTION:
URL:https://tdcnorthbay.com/event/morning-worship-service-68/
LOCATION:Door Church Northbay\, 77 Alder St\, Suisun City\, CA\, 94585\, United States
CATEGORIES:Regular Service
END:VEVENT
BEGIN:VEVENT
DTSTART;TZID=America/Los_Angeles:20260513T190000
DTEND;TZID=America/Los_Angeles:20260513T203000
DTSTAMP:20260423T191211
CREATED:20260209T113507Z
LAST-MODIFIED:20260209T113507Z
UID:814-1778698800-1778704200@tdcnorthbay.com
SUMMARY:Midweek Service
DESCRIPTION:
URL:https://tdcnorthbay.com/event/midweek-service-75/
LOCATION:Door Church Northbay\, 77 Alder St\, Suisun City\, CA\, 94585\, United States
CATEGORIES:Regular Service
END:VEVENT
BEGIN:VEVENT
DTSTART;TZID=America/Los_Angeles:20260515T190000
DTEND;TZID=America/Los_Angeles:20260515T203000
DTSTAMP:20260423T191211
CREATED:20260209T113507Z
LAST-MODIFIED:20260209T113507Z
UID:815-1778871600-1778877000@tdcnorthbay.com
SUMMARY:Revival Service With Carl Cooper
DESCRIPTION:
URL:https://tdcnorthbay.com/event/revival-service-with-carl-cooper/
LOCATION:Door Church Northbay\, 77 Alder St\, Suisun City\, CA\, 94585\, United States
CATEGORIES:Revival
END:VEVENT
BEGIN:VEVENT
DTSTART;TZID=America/Los_Angeles:20260516T190000
DTEND;TZID=America/Los_Angeles:20260516T203000
DTSTAMP:20260423T191211
CREATED:20260209T113508Z
LAST-MODIFIED:20260209T113508Z
UID:816-1778958000-1778963400@tdcnorthbay.com
SUMMARY:Revival Service With Carl Cooper
DESCRIPTION:
URL:https://tdcnorthbay.com/event/revival-service-with-carl-cooper-2/
LOCATION:Door Church Northbay\, 77 Alder St\, Suisun City\, CA\, 94585\, United States
CATEGORIES:Revival
END:VEVENT
BEGIN:VEVENT
DTSTART;TZID=America/Los_Angeles:20260517T110000
DTEND;TZID=America/Los_Angeles:20260517T123000
DTSTAMP:20260423T191211
CREATED:20260209T113521Z
LAST-MODIFIED:20260209T113521Z
UID:817-1779015600-1779021000@tdcnorthbay.com
SUMMARY:Revival Service With Carl Cooper
DESCRIPTION:
URL:https://tdcnorthbay.com/event/revival-service-with-carl-cooper-3/
LOCATION:Door Church Northbay\, 77 Alder St\, Suisun City\, CA\, 94585\, United States
CATEGORIES:Revival
END:VEVENT
BEGIN:VEVENT
DTSTART;TZID=America/Los_Angeles:20260520T190000
DTEND;TZID=America/Los_Angeles:20260520T203000
DTSTAMP:20260423T191211
CREATED:20260209T113522Z
LAST-MODIFIED:20260209T113522Z
UID:818-1779303600-1779309000@tdcnorthbay.com
SUMMARY:Midweek Service
DESCRIPTION:
URL:https://tdcnorthbay.com/event/midweek-service-76/
LOCATION:Door Church Northbay\, 77 Alder St\, Suisun City\, CA\, 94585\, United States
CATEGORIES:Regular Service
END:VEVENT
BEGIN:VEVENT
DTSTART;TZID=America/Los_Angeles:20260524T110000
DTEND;TZID=America/Los_Angeles:20260524T123000
DTSTAMP:20260423T191211
CREATED:20260209T113522Z
LAST-MODIFIED:20260209T113522Z
UID:819-1779620400-1779625800@tdcnorthbay.com
SUMMARY:Morning Worship Service
DESCRIPTION:
URL:https://tdcnorthbay.com/event/morning-worship-service-69/
LOCATION:Door Church Northbay\, 77 Alder St\, Suisun City\, CA\, 94585\, United States
CATEGORIES:Regular Service
END:VEVENT
BEGIN:VEVENT
DTSTART;TZID=America/Los_Angeles:20260527T190000
DTEND;TZID=America/Los_Angeles:20260527T203000
DTSTAMP:20260423T191211
CREATED:20260209T113523Z
LAST-MODIFIED:20260209T113523Z
UID:820-1779908400-1779913800@tdcnorthbay.com
SUMMARY:Midweek Service
DESCRIPTION:
URL:https://tdcnorthbay.com/event/midweek-service-77/
LOCATION:Door Church Northbay\, 77 Alder St\, Suisun City\, CA\, 94585\, United States
CATEGORIES:Regular Service
END:VEVENT
BEGIN:VEVENT
DTSTART;TZID=America/Los_Angeles:20260531T110000
DTEND;TZID=America/Los_Angeles:20260531T123000
DTSTAMP:20260423T191211
CREATED:20260209T113523Z
LAST-MODIFIED:20260209T113523Z
UID:821-1780225200-1780230600@tdcnorthbay.com
SUMMARY:Morning Worship Service
DESCRIPTION:
URL:https://tdcnorthbay.com/event/morning-worship-service-70/
LOCATION:Door Church Northbay\, 77 Alder St\, Suisun City\, CA\, 94585\, United States
CATEGORIES:Regular Service
END:VEVENT
BEGIN:VEVENT
DTSTART;TZID=America/Los_Angeles:20260603T190000
DTEND;TZID=America/Los_Angeles:20260603T203000
DTSTAMP:20260423T191211
CREATED:20260209T113537Z
LAST-MODIFIED:20260209T113537Z
UID:822-1780513200-1780518600@tdcnorthbay.com
SUMMARY:Midweek Service
DESCRIPTION:
URL:https://tdcnorthbay.com/event/midweek-service-78/
LOCATION:Door Church Northbay\, 77 Alder St\, Suisun City\, CA\, 94585\, United States
CATEGORIES:Regular Service
END:VEVENT
BEGIN:VEVENT
DTSTART;TZID=America/Los_Angeles:20260607T110000
DTEND;TZID=America/Los_Angeles:20260607T123000
DTSTAMP:20260423T191211
CREATED:20260209T113537Z
LAST-MODIFIED:20260209T113537Z
UID:823-1780830000-1780835400@tdcnorthbay.com
SUMMARY:Morning Worship Service
DESCRIPTION:
URL:https://tdcnorthbay.com/event/morning-worship-service-71/
LOCATION:Door Church Northbay\, 77 Alder St\, Suisun City\, CA\, 94585\, United States
CATEGORIES:Regular Service
END:VEVENT
BEGIN:VEVENT
DTSTART;TZID=America/Los_Angeles:20260610T190000
DTEND;TZID=America/Los_Angeles:20260610T203000
DTSTAMP:20260423T191211
CREATED:20260209T113537Z
LAST-MODIFIED:20260209T113537Z
UID:824-1781118000-1781123400@tdcnorthbay.com
SUMMARY:Midweek Service
DESCRIPTION:
URL:https://tdcnorthbay.com/event/midweek-service-79/
LOCATION:Door Church Northbay\, 77 Alder St\, Suisun City\, CA\, 94585\, United States
CATEGORIES:Regular Service
END:VEVENT
BEGIN:VEVENT
DTSTART;TZID=America/Los_Angeles:20260614T110000
DTEND;TZID=America/Los_Angeles:20260614T123000
DTSTAMP:20260423T191211
CREATED:20260209T113537Z
LAST-MODIFIED:20260209T113537Z
UID:825-1781434800-1781440200@tdcnorthbay.com
SUMMARY:Morning Worship Service
DESCRIPTION:
URL:https://tdcnorthbay.com/event/morning-worship-service-72/
LOCATION:Door Church Northbay\, 77 Alder St\, Suisun City\, CA\, 94585\, United States
CATEGORIES:Regular Service
END:VEVENT
BEGIN:VEVENT
DTSTART;TZID=America/Los_Angeles:20260615T000000
DTEND;TZID=America/Los_Angeles:20260619T000000
DTSTAMP:20260423T191211
CREATED:20260209T113538Z
LAST-MODIFIED:20260209T113538Z
UID:826-1781481600-1781827200@tdcnorthbay.com
SUMMARY:Tuscon Bible Conference
DESCRIPTION:
URL:https://tdcnorthbay.com/event/tuscon-bible-conference-2/
LOCATION:CA
CATEGORIES:Other
END:VEVENT
BEGIN:VEVENT
DTSTART;TZID=America/Los_Angeles:20260617T190000
DTEND;TZID=America/Los_Angeles:20260617T203000
DTSTAMP:20260423T191211
CREATED:20260209T113551Z
LAST-MODIFIED:20260209T113551Z
UID:827-1781722800-1781728200@tdcnorthbay.com
SUMMARY:Midweek Service
DESCRIPTION:
URL:https://tdcnorthbay.com/event/midweek-service-80/
LOCATION:Door Church Northbay\, 77 Alder St\, Suisun City\, CA\, 94585\, United States
CATEGORIES:Regular Service
END:VEVENT
BEGIN:VEVENT
DTSTART;TZID=America/Los_Angeles:20260621T110000
DTEND;TZID=America/Los_Angeles:20260621T123000
DTSTAMP:20260423T191211
CREATED:20260209T113552Z
LAST-MODIFIED:20260209T113552Z
UID:828-1782039600-1782045000@tdcnorthbay.com
SUMMARY:Morning Worship Service
DESCRIPTION:
URL:https://tdcnorthbay.com/event/morning-worship-service-73/
LOCATION:Door Church Northbay\, 77 Alder St\, Suisun City\, CA\, 94585\, United States
CATEGORIES:Regular Service
END:VEVENT
BEGIN:VEVENT
DTSTART;TZID=America/Los_Angeles:20260624T190000
DTEND;TZID=America/Los_Angeles:20260624T203000
DTSTAMP:20260423T191211
CREATED:20260209T113552Z
LAST-MODIFIED:20260209T113552Z
UID:829-1782327600-1782333000@tdcnorthbay.com
SUMMARY:Midweek Service
DESCRIPTION:
URL:https://tdcnorthbay.com/event/midweek-service-81/
LOCATION:Door Church Northbay\, 77 Alder St\, Suisun City\, CA\, 94585\, United States
CATEGORIES:Regular Service
END:VEVENT
BEGIN:VEVENT
DTSTART;TZID=America/Los_Angeles:20260628T110000
DTEND;TZID=America/Los_Angeles:20260628T123000
DTSTAMP:20260423T191211
CREATED:20260209T113552Z
LAST-MODIFIED:20260209T113552Z
UID:830-1782644400-1782649800@tdcnorthbay.com
SUMMARY:Morning Worship Service
DESCRIPTION:
URL:https://tdcnorthbay.com/event/morning-worship-service-74/
LOCATION:Door Church Northbay\, 77 Alder St\, Suisun City\, CA\, 94585\, United States
CATEGORIES:Regular Service
END:VEVENT
END:VCALENDAR