BEGIN:VCALENDAR
VERSION:2.0
PRODID:-//The Door Church Northbay - ECPv6.15.20//NONSGML v1.0//EN
CALSCALE:GREGORIAN
METHOD:PUBLISH
X-ORIGINAL-URL:https://tdcnorthbay.com
X-WR-CALDESC:Events for The Door Church Northbay
REFRESH-INTERVAL;VALUE=DURATION:PT1H
X-Robots-Tag:noindex
X-PUBLISHED-TTL:PT1H
BEGIN:VTIMEZONE
TZID:America/Los_Angeles
BEGIN:DAYLIGHT
TZOFFSETFROM:-0800
TZOFFSETTO:-0700
TZNAME:PDT
DTSTART:20240310T100000
END:DAYLIGHT
BEGIN:STANDARD
TZOFFSETFROM:-0700
TZOFFSETTO:-0800
TZNAME:PST
DTSTART:20241103T090000
END:STANDARD
BEGIN:DAYLIGHT
TZOFFSETFROM:-0800
TZOFFSETTO:-0700
TZNAME:PDT
DTSTART:20250309T100000
END:DAYLIGHT
BEGIN:STANDARD
TZOFFSETFROM:-0700
TZOFFSETTO:-0800
TZNAME:PST
DTSTART:20251102T090000
END:STANDARD
BEGIN:DAYLIGHT
TZOFFSETFROM:-0800
TZOFFSETTO:-0700
TZNAME:PDT
DTSTART:20260308T100000
END:DAYLIGHT
BEGIN:STANDARD
TZOFFSETFROM:-0700
TZOFFSETTO:-0800
TZNAME:PST
DTSTART:20261101T090000
END:STANDARD
END:VTIMEZONE
BEGIN:VTIMEZONE
TZID:UTC
BEGIN:STANDARD
TZOFFSETFROM:+0000
TZOFFSETTO:+0000
TZNAME:UTC
DTSTART:20240101T000000
END:STANDARD
END:VTIMEZONE
BEGIN:VEVENT
DTSTART;TZID=America/Los_Angeles:20250416T190000
DTEND;TZID=America/Los_Angeles:20250416T203000
DTSTAMP:20260425T161849
CREATED:20241228T043726Z
LAST-MODIFIED:20241228T043726Z
UID:430-1744830000-1744835400@tdcnorthbay.com
SUMMARY:Midweek Service
DESCRIPTION:
URL:https://tdcnorthbay.com/event/midweek-service-19/
LOCATION:Door Church Northbay\, 77 Alder St\, Suisun City\, CA\, 94585\, United States
CATEGORIES:Regular Service
END:VEVENT
BEGIN:VEVENT
DTSTART;TZID=UTC:20250418T190000
DTEND;TZID=UTC:20250418T203000
DTSTAMP:20260425T161849
CREATED:20250128T013948Z
LAST-MODIFIED:20250128T013949Z
UID:589-1745002800-1745008200@tdcnorthbay.com
SUMMARY:Revival with Jerry Fussel
DESCRIPTION:
URL:https://tdcnorthbay.com/event/revival-with-jerry-fussel/
LOCATION:Door Church Northbay\, 77 Alder St\, Suisun City\, CA\, 94585\, United States
CATEGORIES:Revival
END:VEVENT
BEGIN:VEVENT
DTSTART;TZID=UTC:20250419T190000
DTEND;TZID=UTC:20250419T203000
DTSTAMP:20260425T161849
CREATED:20250128T014024Z
LAST-MODIFIED:20250128T014025Z
UID:591-1745089200-1745094600@tdcnorthbay.com
SUMMARY:Revival with Jerry Fussel
DESCRIPTION:
URL:https://tdcnorthbay.com/event/revival-with-jerry-fussel-2/
LOCATION:Door Church Northbay\, 77 Alder St\, Suisun City\, CA\, 94585\, United States
CATEGORIES:Revival
END:VEVENT
BEGIN:VEVENT
DTSTART;TZID=America/Los_Angeles:20250420T110000
DTEND;TZID=America/Los_Angeles:20250420T123000
DTSTAMP:20260425T161849
CREATED:20241228T043407Z
LAST-MODIFIED:20250128T014117Z
UID:375-1745146800-1745152200@tdcnorthbay.com
SUMMARY:Revival with Jerry Fussel
DESCRIPTION:
URL:https://tdcnorthbay.com/event/revival-with-jerry-fussel-3/
LOCATION:Door Church Northbay\, 77 Alder St\, Suisun City\, CA\, 94585\, United States
CATEGORIES:Revival
END:VEVENT
BEGIN:VEVENT
DTSTART;TZID=America/Los_Angeles:20250423T190000
DTEND;TZID=America/Los_Angeles:20250423T203000
DTSTAMP:20260425T161849
CREATED:20241228T043740Z
LAST-MODIFIED:20241228T043740Z
UID:431-1745434800-1745440200@tdcnorthbay.com
SUMMARY:Midweek Service
DESCRIPTION:
URL:https://tdcnorthbay.com/event/midweek-service-20/
LOCATION:Door Church Northbay\, 77 Alder St\, Suisun City\, CA\, 94585\, United States
CATEGORIES:Regular Service
END:VEVENT
BEGIN:VEVENT
DTSTART;VALUE=DATE:20250424
DTEND;VALUE=DATE:20250427
DTSTAMP:20260425T161849
CREATED:20250128T014239Z
LAST-MODIFIED:20250128T014315Z
UID:594-1745452800-1745711999@tdcnorthbay.com
SUMMARY:NORTHERN CALIFORNIA RALLY
DESCRIPTION:
URL:https://tdcnorthbay.com/event/northern-california-rally/
LOCATION:CA
CATEGORIES:Outreach
END:VEVENT
BEGIN:VEVENT
DTSTART;TZID=America/Los_Angeles:20250427T110000
DTEND;TZID=America/Los_Angeles:20250427T123000
DTSTAMP:20260425T161849
CREATED:20241228T043420Z
LAST-MODIFIED:20241228T043420Z
UID:376-1745751600-1745757000@tdcnorthbay.com
SUMMARY:Morning Worship Service
DESCRIPTION:
URL:https://tdcnorthbay.com/event/morning-worship-service-21/
LOCATION:Door Church Northbay\, 77 Alder St\, Suisun City\, CA\, 94585\, United States
CATEGORIES:Regular Service
END:VEVENT
BEGIN:VEVENT
DTSTART;TZID=America/Los_Angeles:20250430T190000
DTEND;TZID=America/Los_Angeles:20250430T203000
DTSTAMP:20260425T161849
CREATED:20241228T043741Z
LAST-MODIFIED:20241228T043741Z
UID:432-1746039600-1746045000@tdcnorthbay.com
SUMMARY:Midweek Service
DESCRIPTION:
URL:https://tdcnorthbay.com/event/midweek-service-21/
LOCATION:Door Church Northbay\, 77 Alder St\, Suisun City\, CA\, 94585\, United States
CATEGORIES:Regular Service
END:VEVENT
BEGIN:VEVENT
DTSTART;TZID=America/Los_Angeles:20250504T110000
DTEND;TZID=America/Los_Angeles:20250504T123000
DTSTAMP:20260425T161849
CREATED:20241228T043421Z
LAST-MODIFIED:20241228T043421Z
UID:377-1746356400-1746361800@tdcnorthbay.com
SUMMARY:Morning Worship Service
DESCRIPTION:
URL:https://tdcnorthbay.com/event/morning-worship-service-22/
LOCATION:Door Church Northbay\, 77 Alder St\, Suisun City\, CA\, 94585\, United States
CATEGORIES:Regular Service
END:VEVENT
BEGIN:VEVENT
DTSTART;TZID=America/Los_Angeles:20250507T190000
DTEND;TZID=America/Los_Angeles:20250507T203000
DTSTAMP:20260425T161849
CREATED:20241228T043741Z
LAST-MODIFIED:20241228T043741Z
UID:433-1746644400-1746649800@tdcnorthbay.com
SUMMARY:Midweek Service
DESCRIPTION:
URL:https://tdcnorthbay.com/event/midweek-service-22/
LOCATION:Door Church Northbay\, 77 Alder St\, Suisun City\, CA\, 94585\, United States
CATEGORIES:Regular Service
END:VEVENT
BEGIN:VEVENT
DTSTART;TZID=America/Los_Angeles:20250511T110000
DTEND;TZID=America/Los_Angeles:20250511T123000
DTSTAMP:20260425T161849
CREATED:20241228T043421Z
LAST-MODIFIED:20241228T043421Z
UID:378-1746961200-1746966600@tdcnorthbay.com
SUMMARY:Morning Worship Service
DESCRIPTION:
URL:https://tdcnorthbay.com/event/morning-worship-service-23/
LOCATION:Door Church Northbay\, 77 Alder St\, Suisun City\, CA\, 94585\, United States
CATEGORIES:Regular Service
END:VEVENT
BEGIN:VEVENT
DTSTART;TZID=America/Los_Angeles:20250514T190000
DTEND;TZID=America/Los_Angeles:20250514T203000
DTSTAMP:20260425T161849
CREATED:20241228T043741Z
LAST-MODIFIED:20241228T043741Z
UID:434-1747249200-1747254600@tdcnorthbay.com
SUMMARY:Midweek Service
DESCRIPTION:
URL:https://tdcnorthbay.com/event/midweek-service-23/
LOCATION:Door Church Northbay\, 77 Alder St\, Suisun City\, CA\, 94585\, United States
CATEGORIES:Regular Service
END:VEVENT
BEGIN:VEVENT
DTSTART;TZID=America/Los_Angeles:20250518T110000
DTEND;TZID=America/Los_Angeles:20250518T123000
DTSTAMP:20260425T161849
CREATED:20241228T043421Z
LAST-MODIFIED:20241228T043421Z
UID:379-1747566000-1747571400@tdcnorthbay.com
SUMMARY:Morning Worship Service
DESCRIPTION:
URL:https://tdcnorthbay.com/event/morning-worship-service-24/
LOCATION:Door Church Northbay\, 77 Alder St\, Suisun City\, CA\, 94585\, United States
CATEGORIES:Regular Service
END:VEVENT
BEGIN:VEVENT
DTSTART;TZID=America/Los_Angeles:20250521T190000
DTEND;TZID=America/Los_Angeles:20250521T203000
DTSTAMP:20260425T161849
CREATED:20241228T043741Z
LAST-MODIFIED:20241228T043741Z
UID:435-1747854000-1747859400@tdcnorthbay.com
SUMMARY:Midweek Service
DESCRIPTION:
URL:https://tdcnorthbay.com/event/midweek-service-24/
LOCATION:Door Church Northbay\, 77 Alder St\, Suisun City\, CA\, 94585\, United States
CATEGORIES:Regular Service
END:VEVENT
BEGIN:VEVENT
DTSTART;TZID=UTC:20250523T190000
DTEND;TZID=UTC:20250523T203000
DTSTAMP:20260425T161849
CREATED:20250221T050348Z
LAST-MODIFIED:20250221T050349Z
UID:597-1748026800-1748032200@tdcnorthbay.com
SUMMARY:Revival with Julio Blanco
DESCRIPTION:
URL:https://tdcnorthbay.com/event/revival-with-julio-blanco/
LOCATION:Door Church Northbay\, 77 Alder St\, Suisun City\, CA\, 94585\, United States
CATEGORIES:Revival
END:VEVENT
BEGIN:VEVENT
DTSTART;TZID=UTC:20250524T190000
DTEND;TZID=UTC:20250524T203000
DTSTAMP:20260425T161849
CREATED:20250221T050417Z
LAST-MODIFIED:20250221T050418Z
UID:599-1748113200-1748118600@tdcnorthbay.com
SUMMARY:Revival with Julio Blanco
DESCRIPTION:
URL:https://tdcnorthbay.com/event/revival-with-julio-blanco-2/
LOCATION:Door Church Northbay\, 77 Alder St\, Suisun City\, CA\, 94585\, United States
CATEGORIES:Revival
END:VEVENT
BEGIN:VEVENT
DTSTART;TZID=America/Los_Angeles:20250525T110000
DTEND;TZID=America/Los_Angeles:20250525T123000
DTSTAMP:20260425T161849
CREATED:20241228T043421Z
LAST-MODIFIED:20250221T050454Z
UID:380-1748170800-1748176200@tdcnorthbay.com
SUMMARY:Revival with Julio Blanco
DESCRIPTION:
URL:https://tdcnorthbay.com/event/revival-with-julio-blanco-3/
LOCATION:Door Church Northbay\, 77 Alder St\, Suisun City\, CA\, 94585\, United States
CATEGORIES:Revival
END:VEVENT
BEGIN:VEVENT
DTSTART;TZID=America/Los_Angeles:20250528T190000
DTEND;TZID=America/Los_Angeles:20250528T203000
DTSTAMP:20260425T161849
CREATED:20241228T043942Z
LAST-MODIFIED:20241228T043942Z
UID:436-1748458800-1748464200@tdcnorthbay.com
SUMMARY:Midweek Service
DESCRIPTION:
URL:https://tdcnorthbay.com/event/midweek-service-25/
LOCATION:Door Church Northbay\, 77 Alder St\, Suisun City\, CA\, 94585\, United States
CATEGORIES:Regular Service
END:VEVENT
BEGIN:VEVENT
DTSTART;TZID=America/Los_Angeles:20250601T110000
DTEND;TZID=America/Los_Angeles:20250601T123000
DTSTAMP:20260425T161849
CREATED:20241228T043436Z
LAST-MODIFIED:20241228T043436Z
UID:381-1748775600-1748781000@tdcnorthbay.com
SUMMARY:Morning Worship Service
DESCRIPTION:
URL:https://tdcnorthbay.com/event/morning-worship-service-26/
LOCATION:Door Church Northbay\, 77 Alder St\, Suisun City\, CA\, 94585\, United States
CATEGORIES:Regular Service
END:VEVENT
BEGIN:VEVENT
DTSTART;TZID=America/Los_Angeles:20250604T190000
DTEND;TZID=America/Los_Angeles:20250604T203000
DTSTAMP:20260425T161849
CREATED:20241228T043942Z
LAST-MODIFIED:20241228T043942Z
UID:437-1749063600-1749069000@tdcnorthbay.com
SUMMARY:Midweek Service
DESCRIPTION:
URL:https://tdcnorthbay.com/event/midweek-service-26/
LOCATION:Door Church Northbay\, 77 Alder St\, Suisun City\, CA\, 94585\, United States
CATEGORIES:Regular Service
END:VEVENT
BEGIN:VEVENT
DTSTART;TZID=America/Los_Angeles:20250608T110000
DTEND;TZID=America/Los_Angeles:20250608T123000
DTSTAMP:20260425T161849
CREATED:20241228T043436Z
LAST-MODIFIED:20241228T043436Z
UID:382-1749380400-1749385800@tdcnorthbay.com
SUMMARY:Morning Worship Service
DESCRIPTION:
URL:https://tdcnorthbay.com/event/morning-worship-service-27/
LOCATION:Door Church Northbay\, 77 Alder St\, Suisun City\, CA\, 94585\, United States
CATEGORIES:Regular Service
END:VEVENT
BEGIN:VEVENT
DTSTART;TZID=America/Los_Angeles:20250611T190000
DTEND;TZID=America/Los_Angeles:20250611T203000
DTSTAMP:20260425T161849
CREATED:20241228T043942Z
LAST-MODIFIED:20241228T043942Z
UID:438-1749668400-1749673800@tdcnorthbay.com
SUMMARY:Midweek Service
DESCRIPTION:
URL:https://tdcnorthbay.com/event/midweek-service-27/
LOCATION:Door Church Northbay\, 77 Alder St\, Suisun City\, CA\, 94585\, United States
CATEGORIES:Regular Service
END:VEVENT
BEGIN:VEVENT
DTSTART;TZID=America/Los_Angeles:20250615T110000
DTEND;TZID=America/Los_Angeles:20250615T123000
DTSTAMP:20260425T161849
CREATED:20241228T043436Z
LAST-MODIFIED:20241228T043436Z
UID:383-1749985200-1749990600@tdcnorthbay.com
SUMMARY:Morning Worship Service
DESCRIPTION:
URL:https://tdcnorthbay.com/event/morning-worship-service-28/
LOCATION:Door Church Northbay\, 77 Alder St\, Suisun City\, CA\, 94585\, United States
CATEGORIES:Regular Service
END:VEVENT
BEGIN:VEVENT
DTSTART;VALUE=DATE:20250616
DTEND;VALUE=DATE:20250621
DTSTAMP:20260425T161849
CREATED:20250119T234805Z
LAST-MODIFIED:20250119T234805Z
UID:578-1750032000-1750463999@tdcnorthbay.com
SUMMARY:TUSCON BIBLE CONFERENCE
DESCRIPTION:
URL:https://tdcnorthbay.com/event/tuscon-bible-conference/
LOCATION:CA
END:VEVENT
BEGIN:VEVENT
DTSTART;TZID=America/Los_Angeles:20250618T190000
DTEND;TZID=America/Los_Angeles:20250618T203000
DTSTAMP:20260425T161849
CREATED:20241228T043942Z
LAST-MODIFIED:20241228T043942Z
UID:439-1750273200-1750278600@tdcnorthbay.com
SUMMARY:Midweek Service
DESCRIPTION:
URL:https://tdcnorthbay.com/event/midweek-service-28/
LOCATION:Door Church Northbay\, 77 Alder St\, Suisun City\, CA\, 94585\, United States
CATEGORIES:Regular Service
END:VEVENT
BEGIN:VEVENT
DTSTART;TZID=America/Los_Angeles:20250622T110000
DTEND;TZID=America/Los_Angeles:20250622T123000
DTSTAMP:20260425T161849
CREATED:20241228T043436Z
LAST-MODIFIED:20241228T043436Z
UID:384-1750590000-1750595400@tdcnorthbay.com
SUMMARY:Morning Worship Service
DESCRIPTION:
URL:https://tdcnorthbay.com/event/morning-worship-service-29/
LOCATION:Door Church Northbay\, 77 Alder St\, Suisun City\, CA\, 94585\, United States
CATEGORIES:Regular Service
END:VEVENT
BEGIN:VEVENT
DTSTART;TZID=America/Los_Angeles:20250625T190000
DTEND;TZID=America/Los_Angeles:20250625T203000
DTSTAMP:20260425T161849
CREATED:20241228T043943Z
LAST-MODIFIED:20241228T043943Z
UID:440-1750878000-1750883400@tdcnorthbay.com
SUMMARY:Midweek Service
DESCRIPTION:
URL:https://tdcnorthbay.com/event/midweek-service-29/
LOCATION:Door Church Northbay\, 77 Alder St\, Suisun City\, CA\, 94585\, United States
CATEGORIES:Regular Service
END:VEVENT
BEGIN:VEVENT
DTSTART;TZID=America/Los_Angeles:20250629T110000
DTEND;TZID=America/Los_Angeles:20250629T123000
DTSTAMP:20260425T161849
CREATED:20241228T043437Z
LAST-MODIFIED:20241228T043437Z
UID:385-1751194800-1751200200@tdcnorthbay.com
SUMMARY:Morning Worship Service
DESCRIPTION:
URL:https://tdcnorthbay.com/event/morning-worship-service-30/
LOCATION:Door Church Northbay\, 77 Alder St\, Suisun City\, CA\, 94585\, United States
CATEGORIES:Regular Service
END:VEVENT
BEGIN:VEVENT
DTSTART;TZID=America/Los_Angeles:20250702T190000
DTEND;TZID=America/Los_Angeles:20250702T203000
DTSTAMP:20260425T161849
CREATED:20241228T044143Z
LAST-MODIFIED:20241228T044143Z
UID:441-1751482800-1751488200@tdcnorthbay.com
SUMMARY:Midweek Service
DESCRIPTION:
URL:https://tdcnorthbay.com/event/midweek-service-30/
LOCATION:Door Church Northbay\, 77 Alder St\, Suisun City\, CA\, 94585\, United States
CATEGORIES:Regular Service
END:VEVENT
BEGIN:VEVENT
DTSTART;TZID=America/Los_Angeles:20250706T110000
DTEND;TZID=America/Los_Angeles:20250706T123000
DTSTAMP:20260425T161849
CREATED:20241228T043451Z
LAST-MODIFIED:20241228T043451Z
UID:386-1751799600-1751805000@tdcnorthbay.com
SUMMARY:Morning Worship Service
DESCRIPTION:
URL:https://tdcnorthbay.com/event/morning-worship-service-31/
LOCATION:Door Church Northbay\, 77 Alder St\, Suisun City\, CA\, 94585\, United States
CATEGORIES:Regular Service
END:VEVENT
END:VCALENDAR