BEGIN:VCALENDAR
VERSION:2.0
PRODID:-//The Door Church Northbay - ECPv6.15.20//NONSGML v1.0//EN
CALSCALE:GREGORIAN
METHOD:PUBLISH
X-ORIGINAL-URL:https://tdcnorthbay.com
X-WR-CALDESC:Events for The Door Church Northbay
REFRESH-INTERVAL;VALUE=DURATION:PT1H
X-Robots-Tag:noindex
X-PUBLISHED-TTL:PT1H
BEGIN:VTIMEZONE
TZID:America/Los_Angeles
BEGIN:DAYLIGHT
TZOFFSETFROM:-0800
TZOFFSETTO:-0700
TZNAME:PDT
DTSTART:20240310T100000
END:DAYLIGHT
BEGIN:STANDARD
TZOFFSETFROM:-0700
TZOFFSETTO:-0800
TZNAME:PST
DTSTART:20241103T090000
END:STANDARD
BEGIN:DAYLIGHT
TZOFFSETFROM:-0800
TZOFFSETTO:-0700
TZNAME:PDT
DTSTART:20250309T100000
END:DAYLIGHT
BEGIN:STANDARD
TZOFFSETFROM:-0700
TZOFFSETTO:-0800
TZNAME:PST
DTSTART:20251102T090000
END:STANDARD
BEGIN:DAYLIGHT
TZOFFSETFROM:-0800
TZOFFSETTO:-0700
TZNAME:PDT
DTSTART:20260308T100000
END:DAYLIGHT
BEGIN:STANDARD
TZOFFSETFROM:-0700
TZOFFSETTO:-0800
TZNAME:PST
DTSTART:20261101T090000
END:STANDARD
END:VTIMEZONE
BEGIN:VTIMEZONE
TZID:UTC
BEGIN:STANDARD
TZOFFSETFROM:+0000
TZOFFSETTO:+0000
TZNAME:UTC
DTSTART:20240101T000000
END:STANDARD
END:VTIMEZONE
BEGIN:VEVENT
DTSTART;TZID=America/Los_Angeles:20250903T190000
DTEND;TZID=America/Los_Angeles:20250903T203000
DTSTAMP:20260424T023107
CREATED:20241228T044159Z
LAST-MODIFIED:20241228T044159Z
UID:450-1756926000-1756931400@tdcnorthbay.com
SUMMARY:Midweek Service
DESCRIPTION:
URL:https://tdcnorthbay.com/event/midweek-service-39/
LOCATION:Door Church Northbay\, 77 Alder St\, Suisun City\, CA\, 94585\, United States
CATEGORIES:Regular Service
END:VEVENT
BEGIN:VEVENT
DTSTART;TZID=America/Los_Angeles:20250907T110000
DTEND;TZID=America/Los_Angeles:20250907T123000
DTSTAMP:20260424T023107
CREATED:20241228T043542Z
LAST-MODIFIED:20241228T043542Z
UID:395-1757242800-1757248200@tdcnorthbay.com
SUMMARY:Morning Worship Service
DESCRIPTION:
URL:https://tdcnorthbay.com/event/morning-worship-service-40/
LOCATION:Door Church Northbay\, 77 Alder St\, Suisun City\, CA\, 94585\, United States
CATEGORIES:Regular Service
END:VEVENT
BEGIN:VEVENT
DTSTART;TZID=America/Los_Angeles:20250910T190000
DTEND;TZID=America/Los_Angeles:20250910T203000
DTSTAMP:20260424T023107
CREATED:20241228T044400Z
LAST-MODIFIED:20241228T044400Z
UID:451-1757530800-1757536200@tdcnorthbay.com
SUMMARY:Midweek Service
DESCRIPTION:
URL:https://tdcnorthbay.com/event/midweek-service-40/
LOCATION:Door Church Northbay\, 77 Alder St\, Suisun City\, CA\, 94585\, United States
CATEGORIES:Regular Service
END:VEVENT
BEGIN:VEVENT
DTSTART;TZID=UTC:20250912T190000
DTEND;TZID=UTC:20250912T203000
DTSTAMP:20260424T023107
CREATED:20250107T022802Z
LAST-MODIFIED:20250107T022803Z
UID:567-1757703600-1757709000@tdcnorthbay.com
SUMMARY:Revival with Peter Ajala
DESCRIPTION:
URL:https://tdcnorthbay.com/event/revival-with-peter-ajala/
LOCATION:Door Church Northbay\, 77 Alder St\, Suisun City\, CA\, 94585\, United States
CATEGORIES:Revival
END:VEVENT
BEGIN:VEVENT
DTSTART;TZID=UTC:20250913T190000
DTEND;TZID=UTC:20250913T203000
DTSTAMP:20260424T023107
CREATED:20250107T023112Z
LAST-MODIFIED:20250107T023112Z
UID:569-1757790000-1757795400@tdcnorthbay.com
SUMMARY:Revival with Peter Ajala
DESCRIPTION:
URL:https://tdcnorthbay.com/event/revival-with-peter-ajala-2/
LOCATION:Door Church Northbay\, 77 Alder St\, Suisun City\, CA\, 94585\, United States
CATEGORIES:Revival
END:VEVENT
BEGIN:VEVENT
DTSTART;TZID=UTC:20250914T110000
DTEND;TZID=UTC:20250914T123000
DTSTAMP:20260424T023107
CREATED:20250107T023212Z
LAST-MODIFIED:20250107T023213Z
UID:571-1757847600-1757853000@tdcnorthbay.com
SUMMARY:Revival with Peter Ajala
DESCRIPTION:
URL:https://tdcnorthbay.com/event/revival-with-peter-ajala-3/
LOCATION:Door Church Northbay\, 77 Alder St\, Suisun City\, CA\, 94585\, United States
CATEGORIES:Revival
END:VEVENT
BEGIN:VEVENT
DTSTART;TZID=America/Los_Angeles:20250917T190000
DTEND;TZID=America/Los_Angeles:20250917T203000
DTSTAMP:20260424T023107
CREATED:20241228T044401Z
LAST-MODIFIED:20241228T044401Z
UID:452-1758135600-1758141000@tdcnorthbay.com
SUMMARY:Midweek Service
DESCRIPTION:
URL:https://tdcnorthbay.com/event/midweek-service-41/
LOCATION:Door Church Northbay\, 77 Alder St\, Suisun City\, CA\, 94585\, United States
CATEGORIES:Regular Service
END:VEVENT
BEGIN:VEVENT
DTSTART;TZID=America/Los_Angeles:20250921T110000
DTEND;TZID=America/Los_Angeles:20250921T123000
DTSTAMP:20260424T023107
CREATED:20241228T043556Z
LAST-MODIFIED:20241228T043556Z
UID:397-1758452400-1758457800@tdcnorthbay.com
SUMMARY:Morning Worship Service
DESCRIPTION:
URL:https://tdcnorthbay.com/event/morning-worship-service-42/
LOCATION:Door Church Northbay\, 77 Alder St\, Suisun City\, CA\, 94585\, United States
CATEGORIES:Regular Service
END:VEVENT
BEGIN:VEVENT
DTSTART;TZID=America/Los_Angeles:20250924T190000
DTEND;TZID=America/Los_Angeles:20250924T203000
DTSTAMP:20260424T023107
CREATED:20241228T044401Z
LAST-MODIFIED:20241228T044401Z
UID:453-1758740400-1758745800@tdcnorthbay.com
SUMMARY:Midweek Service
DESCRIPTION:
URL:https://tdcnorthbay.com/event/midweek-service-42/
LOCATION:Door Church Northbay\, 77 Alder St\, Suisun City\, CA\, 94585\, United States
CATEGORIES:Regular Service
END:VEVENT
BEGIN:VEVENT
DTSTART;TZID=America/Los_Angeles:20250928T110000
DTEND;TZID=America/Los_Angeles:20250928T123000
DTSTAMP:20260424T023107
CREATED:20241228T043557Z
LAST-MODIFIED:20241228T043557Z
UID:398-1759057200-1759062600@tdcnorthbay.com
SUMMARY:Morning Worship Service
DESCRIPTION:
URL:https://tdcnorthbay.com/event/morning-worship-service-43/
LOCATION:Door Church Northbay\, 77 Alder St\, Suisun City\, CA\, 94585\, United States
CATEGORIES:Regular Service
END:VEVENT
END:VCALENDAR