BEGIN:VCALENDAR
VERSION:2.0
PRODID:-//The Door Church Northbay - ECPv6.15.20//NONSGML v1.0//EN
CALSCALE:GREGORIAN
METHOD:PUBLISH
X-WR-CALNAME:The Door Church Northbay
X-ORIGINAL-URL:https://tdcnorthbay.com
X-WR-CALDESC:Events for The Door Church Northbay
REFRESH-INTERVAL;VALUE=DURATION:PT1H
X-Robots-Tag:noindex
X-PUBLISHED-TTL:PT1H
BEGIN:VTIMEZONE
TZID:America/Los_Angeles
BEGIN:DAYLIGHT
TZOFFSETFROM:-0800
TZOFFSETTO:-0700
TZNAME:PDT
DTSTART:20240310T100000
END:DAYLIGHT
BEGIN:STANDARD
TZOFFSETFROM:-0700
TZOFFSETTO:-0800
TZNAME:PST
DTSTART:20241103T090000
END:STANDARD
BEGIN:DAYLIGHT
TZOFFSETFROM:-0800
TZOFFSETTO:-0700
TZNAME:PDT
DTSTART:20250309T100000
END:DAYLIGHT
BEGIN:STANDARD
TZOFFSETFROM:-0700
TZOFFSETTO:-0800
TZNAME:PST
DTSTART:20251102T090000
END:STANDARD
BEGIN:DAYLIGHT
TZOFFSETFROM:-0800
TZOFFSETTO:-0700
TZNAME:PDT
DTSTART:20260308T100000
END:DAYLIGHT
BEGIN:STANDARD
TZOFFSETFROM:-0700
TZOFFSETTO:-0800
TZNAME:PST
DTSTART:20261101T090000
END:STANDARD
END:VTIMEZONE
BEGIN:VTIMEZONE
TZID:UTC
BEGIN:STANDARD
TZOFFSETFROM:+0000
TZOFFSETTO:+0000
TZNAME:UTC
DTSTART:20240101T000000
END:STANDARD
END:VTIMEZONE
BEGIN:VEVENT
DTSTART;TZID=America/Los_Angeles:20251001T190000
DTEND;TZID=America/Los_Angeles:20251001T203000
DTSTAMP:20260423T232905
CREATED:20241228T044401Z
LAST-MODIFIED:20241228T044401Z
UID:454-1759345200-1759350600@tdcnorthbay.com
SUMMARY:Midweek Service
DESCRIPTION:
URL:https://tdcnorthbay.com/event/midweek-service-43/
LOCATION:Door Church Northbay\, 77 Alder St\, Suisun City\, CA\, 94585\, United States
CATEGORIES:Regular Service
END:VEVENT
BEGIN:VEVENT
DTSTART;TZID=UTC:20251004T110000
DTEND;TZID=UTC:20251004T130000
DTSTAMP:20260423T232905
CREATED:20251001T013241Z
LAST-MODIFIED:20251001T032814Z
UID:610-1759575600-1759582800@tdcnorthbay.com
SUMMARY:Outreach
DESCRIPTION:
URL:https://tdcnorthbay.com/event/outreach/
LOCATION:CA
CATEGORIES:Outreach
END:VEVENT
BEGIN:VEVENT
DTSTART;TZID=America/Los_Angeles:20251005T110000
DTEND;TZID=America/Los_Angeles:20251005T123000
DTSTAMP:20260423T232905
CREATED:20241228T043557Z
LAST-MODIFIED:20241228T043557Z
UID:399-1759662000-1759667400@tdcnorthbay.com
SUMMARY:Morning Worship Service
DESCRIPTION:
URL:https://tdcnorthbay.com/event/morning-worship-service-44/
LOCATION:Door Church Northbay\, 77 Alder St\, Suisun City\, CA\, 94585\, United States
CATEGORIES:Regular Service
END:VEVENT
BEGIN:VEVENT
DTSTART;TZID=America/Los_Angeles:20251008T190000
DTEND;TZID=America/Los_Angeles:20251008T203000
DTSTAMP:20260423T232905
CREATED:20241228T044401Z
LAST-MODIFIED:20241228T044401Z
UID:455-1759950000-1759955400@tdcnorthbay.com
SUMMARY:Midweek Service
DESCRIPTION:
URL:https://tdcnorthbay.com/event/midweek-service-44/
LOCATION:Door Church Northbay\, 77 Alder St\, Suisun City\, CA\, 94585\, United States
CATEGORIES:Regular Service
END:VEVENT
BEGIN:VEVENT
DTSTART;TZID=America/Los_Angeles:20251012T110000
DTEND;TZID=America/Los_Angeles:20251012T123000
DTSTAMP:20260423T232905
CREATED:20241228T043557Z
LAST-MODIFIED:20241228T043557Z
UID:400-1760266800-1760272200@tdcnorthbay.com
SUMMARY:Morning Worship Service
DESCRIPTION:
URL:https://tdcnorthbay.com/event/morning-worship-service-45/
LOCATION:Door Church Northbay\, 77 Alder St\, Suisun City\, CA\, 94585\, United States
CATEGORIES:Regular Service
END:VEVENT
BEGIN:VEVENT
DTSTART;TZID=America/Los_Angeles:20251015T190000
DTEND;TZID=America/Los_Angeles:20251015T203000
DTSTAMP:20260423T232905
CREATED:20241228T044600Z
LAST-MODIFIED:20241228T044600Z
UID:456-1760554800-1760560200@tdcnorthbay.com
SUMMARY:Midweek Service
DESCRIPTION:
URL:https://tdcnorthbay.com/event/midweek-service-45/
LOCATION:Door Church Northbay\, 77 Alder St\, Suisun City\, CA\, 94585\, United States
CATEGORIES:Regular Service
END:VEVENT
BEGIN:VEVENT
DTSTART;TZID=UTC:20251018T110000
DTEND;TZID=UTC:20251018T130000
DTSTAMP:20260423T232905
CREATED:20251001T013341Z
LAST-MODIFIED:20251001T032906Z
UID:612-1760785200-1760792400@tdcnorthbay.com
SUMMARY:Outreach
DESCRIPTION:
URL:https://tdcnorthbay.com/event/outreach-2/
LOCATION:CA
CATEGORIES:Outreach
END:VEVENT
BEGIN:VEVENT
DTSTART;TZID=America/Los_Angeles:20251019T110000
DTEND;TZID=America/Los_Angeles:20251019T123000
DTSTAMP:20260423T232905
CREATED:20241228T043611Z
LAST-MODIFIED:20241228T043611Z
UID:401-1760871600-1760877000@tdcnorthbay.com
SUMMARY:Morning Worship Service
DESCRIPTION:
URL:https://tdcnorthbay.com/event/morning-worship-service-46/
LOCATION:Door Church Northbay\, 77 Alder St\, Suisun City\, CA\, 94585\, United States
CATEGORIES:Regular Service
END:VEVENT
BEGIN:VEVENT
DTSTART;TZID=UTC:20251020T190000
DTEND;TZID=UTC:20251020T203000
DTSTAMP:20260423T232905
CREATED:20251001T032339Z
LAST-MODIFIED:20251001T032709Z
UID:620-1760986800-1760992200@tdcnorthbay.com
SUMMARY:Men's Discipleship
DESCRIPTION:With Pastor Joe Campbell
URL:https://tdcnorthbay.com/event/mens-discipleship/
LOCATION:CA
CATEGORIES:Other
END:VEVENT
BEGIN:VEVENT
DTSTART;TZID=America/Los_Angeles:20251022T190000
DTEND;TZID=America/Los_Angeles:20251022T203000
DTSTAMP:20260423T232905
CREATED:20241228T044601Z
LAST-MODIFIED:20241228T044601Z
UID:457-1761159600-1761165000@tdcnorthbay.com
SUMMARY:Midweek Service
DESCRIPTION:
URL:https://tdcnorthbay.com/event/midweek-service-46/
LOCATION:Door Church Northbay\, 77 Alder St\, Suisun City\, CA\, 94585\, United States
CATEGORIES:Regular Service
END:VEVENT
BEGIN:VEVENT
DTSTART;TZID=UTC:20251024T190000
DTEND;TZID=UTC:20251024T203000
DTSTAMP:20260423T232905
CREATED:20251001T013041Z
LAST-MODIFIED:20251001T013058Z
UID:608-1761332400-1761337800@tdcnorthbay.com
SUMMARY:Revival with Pastor Alvin Smith
DESCRIPTION:
URL:https://tdcnorthbay.com/event/revival-with-pastor-alvin-smith-3/
LOCATION:Door Church Northbay\, 77 Alder St\, Suisun City\, CA\, 94585\, United States
CATEGORIES:Revival
END:VEVENT
BEGIN:VEVENT
DTSTART;TZID=UTC:20251025T190000
DTEND;TZID=UTC:20251025T203000
DTSTAMP:20260423T232905
CREATED:20251001T012949Z
LAST-MODIFIED:20251001T012950Z
UID:606-1761418800-1761424200@tdcnorthbay.com
SUMMARY:Revival with Pastor Alvin Smith
DESCRIPTION:
URL:https://tdcnorthbay.com/event/revival-with-pastor-alvin-smith-2/
LOCATION:Door Church Northbay\, 77 Alder St\, Suisun City\, CA\, 94585\, United States
CATEGORIES:Revival
END:VEVENT
BEGIN:VEVENT
DTSTART;TZID=America/Los_Angeles:20251026T110000
DTEND;TZID=America/Los_Angeles:20251026T123000
DTSTAMP:20260423T232905
CREATED:20241228T043611Z
LAST-MODIFIED:20251001T012746Z
UID:402-1761476400-1761481800@tdcnorthbay.com
SUMMARY:Revival with Pastor Alvin Smith
DESCRIPTION:
URL:https://tdcnorthbay.com/event/revival-with-pastor-alvin-smith/
LOCATION:Door Church Northbay\, 77 Alder St\, Suisun City\, CA\, 94585\, United States
CATEGORIES:Revival
END:VEVENT
BEGIN:VEVENT
DTSTART;TZID=UTC:20251026T183000
DTEND;TZID=UTC:20251026T200000
DTSTAMP:20260423T232905
CREATED:20251028T144646Z
LAST-MODIFIED:20251028T144649Z
UID:695-1761503400-1761508800@tdcnorthbay.com
SUMMARY:Revival with Pastor Alvin Smith
DESCRIPTION:
URL:https://tdcnorthbay.com/event/revival-with-pastor-alvin-smith-4/
LOCATION:Door Church Northbay\, 77 Alder St\, Suisun City\, CA\, 94585\, United States
CATEGORIES:Revival
END:VEVENT
BEGIN:VEVENT
DTSTART;TZID=America/Los_Angeles:20251029T190000
DTEND;TZID=America/Los_Angeles:20251029T203000
DTSTAMP:20260423T232906
CREATED:20241228T044602Z
LAST-MODIFIED:20241228T044602Z
UID:458-1761764400-1761769800@tdcnorthbay.com
SUMMARY:Midweek Service
DESCRIPTION:
URL:https://tdcnorthbay.com/event/midweek-service-47/
LOCATION:Door Church Northbay\, 77 Alder St\, Suisun City\, CA\, 94585\, United States
CATEGORIES:Regular Service
END:VEVENT
END:VCALENDAR