BEGIN:VCALENDAR
VERSION:2.0
PRODID:-//The Door Church Northbay - ECPv6.15.20//NONSGML v1.0//EN
CALSCALE:GREGORIAN
METHOD:PUBLISH
X-ORIGINAL-URL:https://tdcnorthbay.com
X-WR-CALDESC:Events for The Door Church Northbay
REFRESH-INTERVAL;VALUE=DURATION:PT1H
X-Robots-Tag:noindex
X-PUBLISHED-TTL:PT1H
BEGIN:VTIMEZONE
TZID:America/Los_Angeles
BEGIN:DAYLIGHT
TZOFFSETFROM:-0800
TZOFFSETTO:-0700
TZNAME:PDT
DTSTART:20240310T100000
END:DAYLIGHT
BEGIN:STANDARD
TZOFFSETFROM:-0700
TZOFFSETTO:-0800
TZNAME:PST
DTSTART:20241103T090000
END:STANDARD
BEGIN:DAYLIGHT
TZOFFSETFROM:-0800
TZOFFSETTO:-0700
TZNAME:PDT
DTSTART:20250309T100000
END:DAYLIGHT
BEGIN:STANDARD
TZOFFSETFROM:-0700
TZOFFSETTO:-0800
TZNAME:PST
DTSTART:20251102T090000
END:STANDARD
BEGIN:DAYLIGHT
TZOFFSETFROM:-0800
TZOFFSETTO:-0700
TZNAME:PDT
DTSTART:20260308T100000
END:DAYLIGHT
BEGIN:STANDARD
TZOFFSETFROM:-0700
TZOFFSETTO:-0800
TZNAME:PST
DTSTART:20261101T090000
END:STANDARD
END:VTIMEZONE
BEGIN:VTIMEZONE
TZID:UTC
BEGIN:STANDARD
TZOFFSETFROM:+0000
TZOFFSETTO:+0000
TZNAME:UTC
DTSTART:20240101T000000
END:STANDARD
END:VTIMEZONE
BEGIN:VEVENT
DTSTART;TZID=America/Los_Angeles:20251203T190000
DTEND;TZID=America/Los_Angeles:20251203T203000
DTSTAMP:20260423T203835
CREATED:20241228T044718Z
LAST-MODIFIED:20241228T044718Z
UID:463-1764788400-1764793800@tdcnorthbay.com
SUMMARY:Midweek Service
DESCRIPTION:
URL:https://tdcnorthbay.com/event/midweek-service-52/
LOCATION:Door Church Northbay\, 77 Alder St\, Suisun City\, CA\, 94585\, United States
CATEGORIES:Regular Service
END:VEVENT
BEGIN:VEVENT
DTSTART;TZID=UTC:20251205T190000
DTEND;TZID=UTC:20251205T203000
DTSTAMP:20260423T203835
CREATED:20251109T231221Z
LAST-MODIFIED:20251109T231224Z
UID:753-1764961200-1764966600@tdcnorthbay.com
SUMMARY:Revival with Julio Blanco
DESCRIPTION:
URL:https://tdcnorthbay.com/event/revival-with-julio-blanco-4/
LOCATION:Door Church Northbay\, 77 Alder St\, Suisun City\, CA\, 94585\, United States
CATEGORIES:Revival
END:VEVENT
BEGIN:VEVENT
DTSTART;TZID=UTC:20251206T190000
DTEND;TZID=UTC:20251206T203000
DTSTAMP:20260423T203835
CREATED:20251109T231254Z
LAST-MODIFIED:20251109T231254Z
UID:755-1765047600-1765053000@tdcnorthbay.com
SUMMARY:Revival with Julio Blanco
DESCRIPTION:
URL:https://tdcnorthbay.com/event/revival-with-julio-blanco-5/
LOCATION:Door Church Northbay\, 77 Alder St\, Suisun City\, CA\, 94585\, United States
CATEGORIES:Revival
END:VEVENT
BEGIN:VEVENT
DTSTART;TZID=America/Los_Angeles:20251207T110000
DTEND;TZID=America/Los_Angeles:20251207T123000
DTSTAMP:20260423T203835
CREATED:20241228T043628Z
LAST-MODIFIED:20251109T231331Z
UID:408-1765105200-1765110600@tdcnorthbay.com
SUMMARY:Revival with Julio Blanco
DESCRIPTION:
URL:https://tdcnorthbay.com/event/morning-worship-service-53/
LOCATION:Door Church Northbay\, 77 Alder St\, Suisun City\, CA\, 94585\, United States
CATEGORIES:Revival
END:VEVENT
BEGIN:VEVENT
DTSTART;TZID=UTC:20251207T183000
DTEND;TZID=UTC:20251207T200000
DTSTAMP:20260423T203835
CREATED:20251125T062329Z
LAST-MODIFIED:20251125T062329Z
UID:759-1765132200-1765137600@tdcnorthbay.com
SUMMARY:Revival with Julio Blanco
DESCRIPTION:
URL:https://tdcnorthbay.com/event/revival-with-julio-blanco-6/
LOCATION:Door Church Northbay\, 77 Alder St\, Suisun City\, CA\, 94585\, United States
CATEGORIES:Revival
END:VEVENT
BEGIN:VEVENT
DTSTART;TZID=America/Los_Angeles:20251210T190000
DTEND;TZID=America/Los_Angeles:20251210T203000
DTSTAMP:20260423T203835
CREATED:20241228T044718Z
LAST-MODIFIED:20241228T044718Z
UID:464-1765393200-1765398600@tdcnorthbay.com
SUMMARY:Midweek Service
DESCRIPTION:
URL:https://tdcnorthbay.com/event/midweek-service-53/
LOCATION:Door Church Northbay\, 77 Alder St\, Suisun City\, CA\, 94585\, United States
CATEGORIES:Regular Service
END:VEVENT
BEGIN:VEVENT
DTSTART;TZID=America/Los_Angeles:20251214T110000
DTEND;TZID=America/Los_Angeles:20251214T123000
DTSTAMP:20260423T203835
CREATED:20241228T043628Z
LAST-MODIFIED:20251130T174047Z
UID:409-1765710000-1765715400@tdcnorthbay.com
SUMMARY:International Day
DESCRIPTION:Join us for a special International themed service & fellowship. Dress up in your country’s traditional clothing and share your favorite dish from your native country!
URL:https://tdcnorthbay.com/event/morning-worship-service-54/
LOCATION:Door Church Northbay\, 77 Alder St\, Suisun City\, CA\, 94585\, United States
CATEGORIES:Fellowship,Regular Service
END:VEVENT
BEGIN:VEVENT
DTSTART;TZID=America/Los_Angeles:20251217T190000
DTEND;TZID=America/Los_Angeles:20251217T203000
DTSTAMP:20260423T203835
CREATED:20241228T044718Z
LAST-MODIFIED:20241228T044718Z
UID:465-1765998000-1766003400@tdcnorthbay.com
SUMMARY:Midweek Service
DESCRIPTION:
URL:https://tdcnorthbay.com/event/midweek-service-54/
LOCATION:Door Church Northbay\, 77 Alder St\, Suisun City\, CA\, 94585\, United States
CATEGORIES:Regular Service
END:VEVENT
BEGIN:VEVENT
DTSTART;TZID=America/Los_Angeles:20251221T110000
DTEND;TZID=America/Los_Angeles:20251221T123000
DTSTAMP:20260423T203835
CREATED:20241228T043628Z
LAST-MODIFIED:20241228T043628Z
UID:410-1766314800-1766320200@tdcnorthbay.com
SUMMARY:Morning Worship Service
DESCRIPTION:
URL:https://tdcnorthbay.com/event/morning-worship-service-55/
LOCATION:Door Church Northbay\, 77 Alder St\, Suisun City\, CA\, 94585\, United States
CATEGORIES:Regular Service
END:VEVENT
BEGIN:VEVENT
DTSTART;TZID=America/Los_Angeles:20251224T190000
DTEND;TZID=America/Los_Angeles:20251224T203000
DTSTAMP:20260423T203835
CREATED:20241228T044732Z
LAST-MODIFIED:20241228T044732Z
UID:466-1766602800-1766608200@tdcnorthbay.com
SUMMARY:Midweek Service
DESCRIPTION:
URL:https://tdcnorthbay.com/event/midweek-service-55/
LOCATION:Door Church Northbay\, 77 Alder St\, Suisun City\, CA\, 94585\, United States
CATEGORIES:Regular Service
END:VEVENT
BEGIN:VEVENT
DTSTART;TZID=America/Los_Angeles:20251228T110000
DTEND;TZID=America/Los_Angeles:20251228T123000
DTSTAMP:20260423T203835
CREATED:20241228T043642Z
LAST-MODIFIED:20241228T043642Z
UID:411-1766919600-1766925000@tdcnorthbay.com
SUMMARY:Morning Worship Service
DESCRIPTION:
URL:https://tdcnorthbay.com/event/morning-worship-service-56/
LOCATION:Door Church Northbay\, 77 Alder St\, Suisun City\, CA\, 94585\, United States
CATEGORIES:Regular Service
END:VEVENT
END:VCALENDAR