BEGIN:VCALENDAR
VERSION:2.0
PRODID:-//The Door Church Northbay - ECPv6.15.20//NONSGML v1.0//EN
CALSCALE:GREGORIAN
METHOD:PUBLISH
X-ORIGINAL-URL:https://tdcnorthbay.com
X-WR-CALDESC:Events for The Door Church Northbay
REFRESH-INTERVAL;VALUE=DURATION:PT1H
X-Robots-Tag:noindex
X-PUBLISHED-TTL:PT1H
BEGIN:VTIMEZONE
TZID:America/Los_Angeles
BEGIN:DAYLIGHT
TZOFFSETFROM:-0800
TZOFFSETTO:-0700
TZNAME:PDT
DTSTART:20250309T100000
END:DAYLIGHT
BEGIN:STANDARD
TZOFFSETFROM:-0700
TZOFFSETTO:-0800
TZNAME:PST
DTSTART:20251102T090000
END:STANDARD
BEGIN:DAYLIGHT
TZOFFSETFROM:-0800
TZOFFSETTO:-0700
TZNAME:PDT
DTSTART:20260308T100000
END:DAYLIGHT
BEGIN:STANDARD
TZOFFSETFROM:-0700
TZOFFSETTO:-0800
TZNAME:PST
DTSTART:20261101T090000
END:STANDARD
BEGIN:DAYLIGHT
TZOFFSETFROM:-0800
TZOFFSETTO:-0700
TZNAME:PDT
DTSTART:20270314T100000
END:DAYLIGHT
BEGIN:STANDARD
TZOFFSETFROM:-0700
TZOFFSETTO:-0800
TZNAME:PST
DTSTART:20271107T090000
END:STANDARD
END:VTIMEZONE
BEGIN:VEVENT
DTSTART;TZID=America/Los_Angeles:20260701T190000
DTEND;TZID=America/Los_Angeles:20260701T203000
DTSTAMP:20260423T190823
CREATED:20260209T113552Z
LAST-MODIFIED:20260209T113552Z
UID:831-1782932400-1782937800@tdcnorthbay.com
SUMMARY:Midweek Service
DESCRIPTION:
URL:https://tdcnorthbay.com/event/midweek-service-82/
LOCATION:Door Church Northbay\, 77 Alder St\, Suisun City\, CA\, 94585\, United States
CATEGORIES:Regular Service
END:VEVENT
BEGIN:VEVENT
DTSTART;TZID=America/Los_Angeles:20260705T110000
DTEND;TZID=America/Los_Angeles:20260705T123000
DTSTAMP:20260423T190823
CREATED:20260209T113606Z
LAST-MODIFIED:20260209T113606Z
UID:832-1783249200-1783254600@tdcnorthbay.com
SUMMARY:Morning Worship Service
DESCRIPTION:
URL:https://tdcnorthbay.com/event/morning-worship-service-75/
LOCATION:Door Church Northbay\, 77 Alder St\, Suisun City\, CA\, 94585\, United States
CATEGORIES:Regular Service
END:VEVENT
BEGIN:VEVENT
DTSTART;TZID=America/Los_Angeles:20260708T190000
DTEND;TZID=America/Los_Angeles:20260708T203000
DTSTAMP:20260423T190823
CREATED:20260209T113607Z
LAST-MODIFIED:20260209T113607Z
UID:833-1783537200-1783542600@tdcnorthbay.com
SUMMARY:Midweek Service
DESCRIPTION:
URL:https://tdcnorthbay.com/event/midweek-service-83/
LOCATION:Door Church Northbay\, 77 Alder St\, Suisun City\, CA\, 94585\, United States
CATEGORIES:Regular Service
END:VEVENT
BEGIN:VEVENT
DTSTART;TZID=America/Los_Angeles:20260712T110000
DTEND;TZID=America/Los_Angeles:20260712T123000
DTSTAMP:20260423T190823
CREATED:20260209T113607Z
LAST-MODIFIED:20260209T113607Z
UID:834-1783854000-1783859400@tdcnorthbay.com
SUMMARY:Morning Worship Service
DESCRIPTION:
URL:https://tdcnorthbay.com/event/morning-worship-service-76/
LOCATION:Door Church Northbay\, 77 Alder St\, Suisun City\, CA\, 94585\, United States
CATEGORIES:Regular Service
END:VEVENT
BEGIN:VEVENT
DTSTART;TZID=America/Los_Angeles:20260715T190000
DTEND;TZID=America/Los_Angeles:20260715T203000
DTSTAMP:20260423T190823
CREATED:20260209T113607Z
LAST-MODIFIED:20260209T113607Z
UID:835-1784142000-1784147400@tdcnorthbay.com
SUMMARY:Midweek Service
DESCRIPTION:
URL:https://tdcnorthbay.com/event/midweek-service-84/
LOCATION:Door Church Northbay\, 77 Alder St\, Suisun City\, CA\, 94585\, United States
CATEGORIES:Regular Service
END:VEVENT
BEGIN:VEVENT
DTSTART;TZID=America/Los_Angeles:20260719T110000
DTEND;TZID=America/Los_Angeles:20260719T123000
DTSTAMP:20260423T190823
CREATED:20260209T113607Z
LAST-MODIFIED:20260209T113607Z
UID:836-1784458800-1784464200@tdcnorthbay.com
SUMMARY:Morning Worship Service
DESCRIPTION:
URL:https://tdcnorthbay.com/event/morning-worship-service-77/
LOCATION:Door Church Northbay\, 77 Alder St\, Suisun City\, CA\, 94585\, United States
CATEGORIES:Regular Service
END:VEVENT
BEGIN:VEVENT
DTSTART;TZID=America/Los_Angeles:20260722T190000
DTEND;TZID=America/Los_Angeles:20260722T203000
DTSTAMP:20260423T190823
CREATED:20260209T113621Z
LAST-MODIFIED:20260209T113621Z
UID:837-1784746800-1784752200@tdcnorthbay.com
SUMMARY:Midweek Service
DESCRIPTION:
URL:https://tdcnorthbay.com/event/midweek-service-85/
LOCATION:Door Church Northbay\, 77 Alder St\, Suisun City\, CA\, 94585\, United States
CATEGORIES:Regular Service
END:VEVENT
BEGIN:VEVENT
DTSTART;TZID=America/Los_Angeles:20260726T110000
DTEND;TZID=America/Los_Angeles:20260726T123000
DTSTAMP:20260423T190823
CREATED:20260209T113622Z
LAST-MODIFIED:20260209T113622Z
UID:838-1785063600-1785069000@tdcnorthbay.com
SUMMARY:Morning Worship Service
DESCRIPTION:
URL:https://tdcnorthbay.com/event/morning-worship-service-78/
LOCATION:Door Church Northbay\, 77 Alder St\, Suisun City\, CA\, 94585\, United States
CATEGORIES:Regular Service
END:VEVENT
BEGIN:VEVENT
DTSTART;TZID=America/Los_Angeles:20260729T190000
DTEND;TZID=America/Los_Angeles:20260729T203000
DTSTAMP:20260423T190823
CREATED:20260209T113622Z
LAST-MODIFIED:20260209T113622Z
UID:839-1785351600-1785357000@tdcnorthbay.com
SUMMARY:Midweek Service
DESCRIPTION:
URL:https://tdcnorthbay.com/event/midweek-service-86/
LOCATION:Door Church Northbay\, 77 Alder St\, Suisun City\, CA\, 94585\, United States
CATEGORIES:Regular Service
END:VEVENT
END:VCALENDAR