BEGIN:VCALENDAR
VERSION:2.0
PRODID:-//The Door Church Northbay - ECPv6.15.20//NONSGML v1.0//EN
CALSCALE:GREGORIAN
METHOD:PUBLISH
X-ORIGINAL-URL:https://tdcnorthbay.com
X-WR-CALDESC:Events for The Door Church Northbay
REFRESH-INTERVAL;VALUE=DURATION:PT1H
X-Robots-Tag:noindex
X-PUBLISHED-TTL:PT1H
BEGIN:VTIMEZONE
TZID:America/Los_Angeles
BEGIN:DAYLIGHT
TZOFFSETFROM:-0800
TZOFFSETTO:-0700
TZNAME:PDT
DTSTART:20250309T100000
END:DAYLIGHT
BEGIN:STANDARD
TZOFFSETFROM:-0700
TZOFFSETTO:-0800
TZNAME:PST
DTSTART:20251102T090000
END:STANDARD
BEGIN:DAYLIGHT
TZOFFSETFROM:-0800
TZOFFSETTO:-0700
TZNAME:PDT
DTSTART:20260308T100000
END:DAYLIGHT
BEGIN:STANDARD
TZOFFSETFROM:-0700
TZOFFSETTO:-0800
TZNAME:PST
DTSTART:20261101T090000
END:STANDARD
BEGIN:DAYLIGHT
TZOFFSETFROM:-0800
TZOFFSETTO:-0700
TZNAME:PDT
DTSTART:20270314T100000
END:DAYLIGHT
BEGIN:STANDARD
TZOFFSETFROM:-0700
TZOFFSETTO:-0800
TZNAME:PST
DTSTART:20271107T090000
END:STANDARD
END:VTIMEZONE
BEGIN:VEVENT
DTSTART;TZID=America/Los_Angeles:20260930T190000
DTEND;TZID=America/Los_Angeles:20260930T203000
DTSTAMP:20260423T233201
CREATED:20260209T113722Z
LAST-MODIFIED:20260209T113722Z
UID:857-1790794800-1790800200@tdcnorthbay.com
SUMMARY:Midweek Service
DESCRIPTION:
URL:https://tdcnorthbay.com/event/midweek-service-95/
LOCATION:Door Church Northbay\, 77 Alder St\, Suisun City\, CA\, 94585\, United States
CATEGORIES:Regular Service
END:VEVENT
BEGIN:VEVENT
DTSTART;TZID=America/Los_Angeles:20261004T110000
DTEND;TZID=America/Los_Angeles:20261004T123000
DTSTAMP:20260423T233201
CREATED:20260209T113722Z
LAST-MODIFIED:20260209T113722Z
UID:858-1791111600-1791117000@tdcnorthbay.com
SUMMARY:Morning Worship Service
DESCRIPTION:
URL:https://tdcnorthbay.com/event/morning-worship-service-88/
LOCATION:Door Church Northbay\, 77 Alder St\, Suisun City\, CA\, 94585\, United States
CATEGORIES:Regular Service
END:VEVENT
BEGIN:VEVENT
DTSTART;TZID=America/Los_Angeles:20261007T190000
DTEND;TZID=America/Los_Angeles:20261007T203000
DTSTAMP:20260423T233201
CREATED:20260209T113722Z
LAST-MODIFIED:20260209T113722Z
UID:859-1791399600-1791405000@tdcnorthbay.com
SUMMARY:Midweek Service
DESCRIPTION:
URL:https://tdcnorthbay.com/event/midweek-service-96/
LOCATION:Door Church Northbay\, 77 Alder St\, Suisun City\, CA\, 94585\, United States
CATEGORIES:Regular Service
END:VEVENT
BEGIN:VEVENT
DTSTART;TZID=America/Los_Angeles:20261011T110000
DTEND;TZID=America/Los_Angeles:20261011T123000
DTSTAMP:20260423T233201
CREATED:20260209T113723Z
LAST-MODIFIED:20260209T113723Z
UID:860-1791716400-1791721800@tdcnorthbay.com
SUMMARY:Morning Worship Service
DESCRIPTION:
URL:https://tdcnorthbay.com/event/morning-worship-service-89/
LOCATION:Door Church Northbay\, 77 Alder St\, Suisun City\, CA\, 94585\, United States
CATEGORIES:Regular Service
END:VEVENT
BEGIN:VEVENT
DTSTART;TZID=America/Los_Angeles:20261014T190000
DTEND;TZID=America/Los_Angeles:20261014T203000
DTSTAMP:20260423T233201
CREATED:20260209T113723Z
LAST-MODIFIED:20260209T113723Z
UID:861-1792004400-1792009800@tdcnorthbay.com
SUMMARY:Midweek Service
DESCRIPTION:
URL:https://tdcnorthbay.com/event/midweek-service-97/
LOCATION:Door Church Northbay\, 77 Alder St\, Suisun City\, CA\, 94585\, United States
CATEGORIES:Regular Service
END:VEVENT
BEGIN:VEVENT
DTSTART;TZID=America/Los_Angeles:20261018T110000
DTEND;TZID=America/Los_Angeles:20261018T123000
DTSTAMP:20260423T233201
CREATED:20260209T113829Z
LAST-MODIFIED:20260209T113829Z
UID:862-1792321200-1792326600@tdcnorthbay.com
SUMMARY:Morning Worship Service
DESCRIPTION:
URL:https://tdcnorthbay.com/event/morning-worship-service-90/
LOCATION:Door Church Northbay\, 77 Alder St\, Suisun City\, CA\, 94585\, United States
CATEGORIES:Regular Service
END:VEVENT
BEGIN:VEVENT
DTSTART;TZID=America/Los_Angeles:20261021T190000
DTEND;TZID=America/Los_Angeles:20261021T203000
DTSTAMP:20260423T233201
CREATED:20260209T113829Z
LAST-MODIFIED:20260209T113829Z
UID:863-1792609200-1792614600@tdcnorthbay.com
SUMMARY:Midweek Service
DESCRIPTION:
URL:https://tdcnorthbay.com/event/midweek-service-98/
LOCATION:Door Church Northbay\, 77 Alder St\, Suisun City\, CA\, 94585\, United States
CATEGORIES:Regular Service
END:VEVENT
BEGIN:VEVENT
DTSTART;TZID=America/Los_Angeles:20261025T110000
DTEND;TZID=America/Los_Angeles:20261025T123000
DTSTAMP:20260423T233201
CREATED:20260209T113830Z
LAST-MODIFIED:20260209T113830Z
UID:864-1792926000-1792931400@tdcnorthbay.com
SUMMARY:Morning Worship Service
DESCRIPTION:
URL:https://tdcnorthbay.com/event/morning-worship-service-91/
LOCATION:Door Church Northbay\, 77 Alder St\, Suisun City\, CA\, 94585\, United States
CATEGORIES:Regular Service
END:VEVENT
BEGIN:VEVENT
DTSTART;TZID=America/Los_Angeles:20261028T190000
DTEND;TZID=America/Los_Angeles:20261028T203000
DTSTAMP:20260423T233201
CREATED:20260209T113830Z
LAST-MODIFIED:20260209T113830Z
UID:865-1793214000-1793219400@tdcnorthbay.com
SUMMARY:Midweek Service
DESCRIPTION:
URL:https://tdcnorthbay.com/event/midweek-service-99/
LOCATION:Door Church Northbay\, 77 Alder St\, Suisun City\, CA\, 94585\, United States
CATEGORIES:Regular Service
END:VEVENT
END:VCALENDAR